BEGIN:VCALENDAR
VERSION:2.0
PRODID:-//ChamberMaster//Event Calendar 2.0//EN
METHOD:PUBLISH
X-PUBLISHED-TTL:P3D
REFRESH-INTERVAL:P3D
CALSCALE:GREGORIAN
BEGIN:VEVENT
DTSTART:20160414T230000Z
DTEND:20160415T010000Z
X-MICROSOFT-CDO-ALLDAYEVENT:FALSE
SUMMARY:Women's Safety Presentation by Tarrant County Criminal District Attorney's Ofc.
DESCRIPTION:Women's Safety class taught by expert attorneys from the Tarrant County Criminal District Attorney's Speaker on the Road Program.
X-ALT-DESC;FMTTYPE=text/html:<strong>Women&#39\;s Safety class taught by expert attorneys from the Tarrant County Criminal District Attorney&#39\;s Speaker on the Road Program.</strong>
LOCATION:Business Assistance Center\, 1150 S. Freeway\, Pharma Fab Conference Room\, Ft. Worth\, TX
UID:e.1262.2734
SEQUENCE:3
DTSTAMP:20260422T092036Z
URL:https://business.fwmbcc.org/events/details/women-s-safety-presentation-by-tarrant-county-criminal-district-attorney-s-ofc-04-14-2016-2734
END:VEVENT

END:VCALENDAR
