BEGIN:VCALENDAR
VERSION:2.0
PRODID:-//ChamberMaster//Event Calendar 2.0//EN
METHOD:PUBLISH
X-PUBLISHED-TTL:P3D
REFRESH-INTERVAL:P3D
CALSCALE:GREGORIAN
BEGIN:VEVENT
DTSTART:20160318T223000Z
DTEND:20160319T003000Z
X-MICROSOFT-CDO-ALLDAYEVENT:FALSE
SUMMARY:Women's History Month Event
DESCRIPTION:Characteristics of a History Maker- Women's Business Division
X-ALT-DESC;FMTTYPE=text/html:Characteristics of a History Maker- Women&#39\;s Business Division
LOCATION:Lena Pope Amon Carter Center 3200 Sanquinet Street Fort Worth\, Texas 76107
UID:e.1262.2799
SEQUENCE:3
DTSTAMP:20260422T105307Z
URL:https://business.fwmbcc.org/events/details/women-s-history-month-event-03-18-2016-2799
END:VEVENT

END:VCALENDAR
