BEGIN:VCALENDAR
VERSION:2.0
PRODID:-//ChamberMaster//Event Calendar 2.0//EN
METHOD:PUBLISH
X-PUBLISHED-TTL:P3D
REFRESH-INTERVAL:P3D
CALSCALE:GREGORIAN
BEGIN:VEVENT
DTSTART:20160311T000000Z
DTEND:20160311T013000Z
X-MICROSOFT-CDO-ALLDAYEVENT:FALSE
SUMMARY:Women of Excellence Kick-Off-"Girls and Teens of Excellence"
DESCRIPTION:New Mentoring program will honor 6 young women in a kick-off event with Norma Roby. Women of Excellence in partnership with FWISD schools\, seeks to expose young women to mentors who exemplify positive self image\, respect for others\, etc. If you would like to enter a teen/young lady email MeLinda Hamilton by January 15th.
X-ALT-DESC;FMTTYPE=text/html:New Mentoring program will honor 6 young women in a kick-off event with Norma Roby. Women of Excellence in partnership with FWISD schools\, seeks to expose young women to mentors who exemplify positive self image\, respect for others\, etc. If you would like to enter a teen/young lady email MeLinda Hamilton by January 15th.
LOCATION:Central Library (500 West 3rd Street\, 2nd Floor)
UID:e.1262.2318
SEQUENCE:3
DTSTAMP:20260422T105655Z
URL:https://business.fwmbcc.org/events/details/women-of-excellence-kick-off-girls-and-teens-of-excellence-03-10-2016-2318
END:VEVENT

END:VCALENDAR
