BEGIN:VCALENDAR
VERSION:2.0
PRODID:-//ChamberMaster//Event Calendar 2.0//EN
METHOD:PUBLISH
X-PUBLISHED-TTL:P3D
REFRESH-INTERVAL:P3D
CALSCALE:GREGORIAN
BEGIN:VEVENT
DTSTART:20160313T130000Z
DTEND:20160313T163000Z
X-MICROSOFT-CDO-ALLDAYEVENT:FALSE
SUMMARY:Wff Entrepreneur Boot Camp
DESCRIPTION:The Coca-Cola Company's global commitment is to enable the economic empowerment of 5 million women entrepreneurs across the company's value chain by 2020.  This event will offer interactive workshops designed to empower you with the skills needed to start and grow your business.  BONUS! Participants will receive a complimentary 1-year Women's Foodservice Forum (WFF) membership.
X-ALT-DESC;FMTTYPE=text/html:<strong>The Coca-Cola Company&#39\;s global commitment is to enable the economic empowerment of 5 million women entrepreneurs across the company&#39\;s value chain by 2020. &nbsp\;This event will offer interactive workshops designed to empower you with the skills needed to start and grow your business. &nbsp\;BONUS! Participants will receive a complimentary 1-year Women&#39\;s Foodservice Forum (WFF) membership.</strong>
LOCATION:Hilton Anatole Hotel\, Imperial Ballroom 2201 N. Stemmons Freeway\, Dallas TX 75207
UID:e.1262.2741
SEQUENCE:3
DTSTAMP:20260422T103821Z
URL:https://business.fwmbcc.org/events/details/wff-entrepreneur-boot-camp-03-13-2016-2741
END:VEVENT

END:VCALENDAR
