BEGIN:VCALENDAR
VERSION:2.0
PRODID:-//ChamberMaster//Event Calendar 2.0//EN
METHOD:PUBLISH
X-PUBLISHED-TTL:P3D
REFRESH-INTERVAL:P3D
CALSCALE:GREGORIAN
BEGIN:VEVENT
DTSTART:20160926T180000Z
DTEND:20160929T220000Z
X-MICROSOFT-CDO-ALLDAYEVENT:FALSE
SUMMARY:Webinar! ATM\, Network Television Programming\, Shoe Shine
DESCRIPTION:New Service Opportunities Webinar on Monday  \n\n\n\nOn Monday\, September 26\, beginning at 1:00 PM CST\, DFW Airport staff will conduct a webinar to discuss these new opportunities:\n\n\n\n	Automated Teller Machine (ATM) services \n	Network Television Programming\n	Shoe Shine services \n\n\nThese opportunities will be offered through a Request for Proposals process on Thursday\, September 29.\n \n\nPlease register here for the webinar\, and you will receive the log-in instructions.  We look forward to discussing these exciting opportunities!\n\n \n\n\nAbout DFW\n\nDFW is the third busiest airport in the world and is the busiest hub for the world's largest airline\, American Airlines.  DFW's 26 passenger airlines serve 209 destinations\, including cities throughout Europe and Latin America as well as Hong Kong\, Beijing\, Shanghai\, Sydney\, Dubai\, and Doha.\n\n\n \n\nThank you\,\n\nDFW Airport Concessions Department
X-ALT-DESC;FMTTYPE=text/html:<div style="color:rgb(34\, 34\, 34)\;font-family:arial\, sans-serif\;font-size:12.8px\;"><strong><span style="color:#ff6600\;"><span style="font-family:arial\,sans-serif\;"><span style="font-size:18pt\;">New Service Opportunities Webinar on Monday &nbsp\;</span></span></span></strong></div>\n\n<div style="color:rgb(34\, 34\, 34)\;font-family:arial\, sans-serif\;font-size:12.8px\;">\n<div style="margin-bottom:4.5pt\;">\n<div style="margin-bottom:4.5pt\;"><span style="color:black\;"><span style="font-family:arial\,sans-serif\;">On Monday\, September 26\, beginning at&nbsp\;<span data-term="goog_1114350430" style="border-bottom:1px dashed rgb(204\, 204\, 204)\;position:relative\;top:-2px\;z-index:0\;" tabindex="0"><span style="position:relative\;top:2px\;z-index:-1\;">1:00 PM CST</span></span>\, DFW Airport staff will conduct a webinar to discuss these new opportunities:</span></span></div>\n\n<div style="margin-bottom:4.5pt\;">\n<ul>\n	<li style="margin:0px 0px 0px 15px\;color:black\;"><span style="font-family:arial\,sans-serif\;">Automated Teller Machine (ATM) services&nbsp\;</span></li>\n	<li style="margin:0px 0px 0px 15px\;color:black\;"><span style="font-family:arial\,sans-serif\;">Network Television Programming</span></li>\n	<li style="margin:0px 0px 0px 15px\;color:black\;"><span style="font-family:arial\,sans-serif\;">Shoe Shine services&nbsp\;</span></li>\n</ul>\n\n<div><span style="color:black\;"><span style="font-family:arial\,sans-serif\;">These opportunities will be offered through a Request for Proposals process on Thursday\, September 29.</span></span></div>\n&nbsp\;</div>\n\n<div style="margin-bottom:4.5pt\;"><span style="color:black\;"><span style="font-family:arial\,sans-serif\;">Please register&nbsp\;<a data-saferedirecturl="https://www.google.com/url?hl=en&amp\;q=http://r20.rs6.net/tn.jsp?f%3D001S1AmlR3vpRfTZP_fZZeOW3pXLxI2eFIxXSozeApHgufHzOe9yMMDJplQ4-il8wOYxHhpez73aXKNk2DvLiljDWCFdDY99__tWkUARd-T-dWSbSVd_tUKJMQTewnSBBUJsbRPRyoKQbgtIIraFS5AhqImcjnXwkixNcrHUBCOEP82KOu_mpG0JsbdI1WtsAQRcp88ARxNmxZLAQoYXCPPG1xvIBZVr8Rd%26c%3DNJsSuizCffuTzgk86hseoNOXGmbD_tlfucMewl4CdXfRe22CP6aaKQ%3D%3D%26ch%3D7LaquM6CNxjWhelPKA10RVz-kHHtp8_UQBwCieaHN0f1ZvC_brxkUQ%3D%3D&amp\;source=gmail&amp\;ust=1475248039221000&amp\;usg=AFQjCNG6lbVDBLZAvPyIvBNxasuKGIMe1Q" href="http://r20.rs6.net/tn.jsp?f=001S1AmlR3vpRfTZP_fZZeOW3pXLxI2eFIxXSozeApHgufHzOe9yMMDJplQ4-il8wOYxHhpez73aXKNk2DvLiljDWCFdDY99__tWkUARd-T-dWSbSVd_tUKJMQTewnSBBUJsbRPRyoKQbgtIIraFS5AhqImcjnXwkixNcrHUBCOEP82KOu_mpG0JsbdI1WtsAQRcp88ARxNmxZLAQoYXCPPG1xvIBZVr8Rd&amp\;c=NJsSuizCffuTzgk86hseoNOXGmbD_tlfucMewl4CdXfRe22CP6aaKQ==&amp\;ch=7LaquM6CNxjWhelPKA10RVz-kHHtp8_UQBwCieaHN0f1ZvC_brxkUQ==" style="color:rgb(17\, 85\, 204)\;" target="_blank"><strong>here</strong></a>&nbsp\;for the webinar\, and you will receive the log-in instructions. &nbsp\;We look forward to discussing these exciting opportunities!</span></span></div>\n\n<div style="margin-bottom:4.5pt\;">&nbsp\;</div>\n\n<div style="margin-bottom:4.5pt\;">\n<div><strong><span style="color:black\;"><span style="font-family:arial\,sans-serif\;">About DFW</span></span></strong></div>\n\n<div><span style="color:black\;"><span style="font-family:arial\,sans-serif\;">DFW is the third busiest airport in the world and is the busiest hub for the world&#39\;s largest airline\, American Airlines. &nbsp\;DFW&#39\;s 26 passenger airlines serve 209 destinations\, including cities throughout Europe and Latin America as well as Hong Kong\, Beijing\, Shanghai\, Sydney\, Dubai\, and Doha.</span></span></div>\n</div>\n\n<div style="margin-bottom:4.5pt\;">&nbsp\;</div>\n\n<div style="margin-bottom:4.5pt\;"><span style="color:black\;"><span style="font-family:arial\,sans-serif\;">Thank you\,</span></span></div>\n\n<div style="margin-bottom:4.5pt\;"><span style="color:black\;"><span style="font-family:arial\,sans-serif\;">DFW Airport Concessions Department</span></span></div>\n</div>\n</div>\n
LOCATION:Online
UID:e.1262.2893
SEQUENCE:3
DTSTAMP:20260422T005905Z
URL:https://business.fwmbcc.org/events/details/webinar-atm-network-television-programming-shoe-shine-2893
END:VEVENT

END:VCALENDAR
