BEGIN:VCALENDAR
VERSION:2.0
PRODID:-//ChamberMaster//Event Calendar 2.0//EN
METHOD:PUBLISH
X-PUBLISHED-TTL:P3D
REFRESH-INTERVAL:P3D
CALSCALE:GREGORIAN
BEGIN:VEVENT
DTSTART:20150912T150000Z
DTEND:20150912T190000Z
X-MICROSOFT-CDO-ALLDAYEVENT:FALSE
SUMMARY:W.A.T.E.R. Festival
DESCRIPTION:W.A.T.E.R (Water Awareness Through Education and Recreation) Festival features activities that celebrate water as a resource. Play with turtles\, go on a nature hike\, make a rain cage & watercolor masterpiece.
X-ALT-DESC;FMTTYPE=text/html:W.A.T.E.R (Water Awareness Through Education and Recreation) Festival features activities that celebrate water as a resource. Play with turtles\, go on a nature hike\, make a rain cage &amp\; watercolor masterpiece.
LOCATION:River Legacy Science Center
UID:e.1262.2239
SEQUENCE:3
DTSTAMP:20260422T073638Z
URL:https://business.fwmbcc.org/events/details/w-a-t-e-r-festival-09-12-2015-2239
END:VEVENT

END:VCALENDAR
