BEGIN:VCALENDAR
VERSION:2.0
PRODID:-//ChamberMaster//Event Calendar 2.0//EN
METHOD:PUBLISH
X-PUBLISHED-TTL:P3D
REFRESH-INTERVAL:P3D
CALSCALE:GREGORIAN
BEGIN:VEVENT
DTSTART:20160803T223000Z
DTEND:20160804T000000Z
X-MICROSOFT-CDO-ALLDAYEVENT:FALSE
SUMMARY:Vision Fort Worth - Socialize for School Supplies
DESCRIPTION:You're invited to join your fellow Vision Fort Worth members to socialize over drinks and appetizers at the Social House on August 3 from 5:30 - 7 p.m. We'll be gathering with a purpose - to further our mission to make Fort Worth a great place to live. We're partnering with Nash Elementary school to host a school supplies drive. Bring two items from the school supplies list for entry. Appetizers will be provided. We can't wait to see you.\n\n\n\nPlease bring 2 items on the list below for your entry into the Happy Hour at Social House. \n\n\n\nThe most urgently needed school supplies are listed below: \n\n  Dry erase markers\n\n  Kleenex\n\n  Hand sanitizer\n\n  Clorox wipes\n\n  Crayons\n\n  Markers\n\n  Glue sticks\n\n  Wide ruled notebook paper\n\n  Pencils\n\n  Spiral notebooks\n\n  Composition notebooks\n\n  Socks/underwear
X-ALT-DESC;FMTTYPE=text/html:<span style="color: rgb(75\, 79\, 86)\; font-family: helvetica\, arial\, sans-serif\; font-size: 14px\; line-height: 18.76px\;">You&#39\;re invited to join your fellow Vision Fort Worth members to socialize over drinks and appetizers at the Social House on August 3 from 5:30 - 7 p.m. We&#39\;ll be gathering with a purpose - to further our mission to make Fort Worth a great place to live. We&#39\;re partnering with Nash Elementary school to host a school supplies drive. Bring two items from the school supplies list for entry. Appetizers will be provided. We can&#39\;t wait to see you.</span><br style="color: rgb(75\, 79\, 86)\; font-family: helvetica\, arial\, sans-serif\; font-size: 14px\; line-height: 18.76px\;" />\n<br style="color: rgb(75\, 79\, 86)\; font-family: helvetica\, arial\, sans-serif\; font-size: 14px\; line-height: 18.76px\;" />\n<span style="color: rgb(75\, 79\, 86)\; font-family: helvetica\, arial\, sans-serif\; font-size: 14px\; line-height: 18.76px\;">Please bring 2 items on the list below for your entry into the Happy Hour at Social House.&nbsp\;</span><br style="color: rgb(75\, 79\, 86)\; font-family: helvetica\, arial\, sans-serif\; font-size: 14px\; line-height: 18.76px\;" />\n<br style="color: rgb(75\, 79\, 86)\; font-family: helvetica\, arial\, sans-serif\; font-size: 14px\; line-height: 18.76px\;" />\n<span style="color: rgb(75\, 79\, 86)\; font-family: helvetica\, arial\, sans-serif\; font-size: 14px\; line-height: 18.76px\;">The most urgently needed school supplies are listed below:&nbsp\;</span><br style="color: rgb(75\, 79\, 86)\; font-family: helvetica\, arial\, sans-serif\; font-size: 14px\; line-height: 18.76px\;" />\n<span style="color: rgb(75\, 79\, 86)\; font-family: helvetica\, arial\, sans-serif\; font-size: 14px\; line-height: 18.76px\;">&bull\; Dry erase markers</span><br style="color: rgb(75\, 79\, 86)\; font-family: helvetica\, arial\, sans-serif\; font-size: 14px\; line-height: 18.76px\;" />\n<span style="color: rgb(75\, 79\, 86)\; font-family: helvetica\, arial\, sans-serif\; font-size: 14px\; line-height: 18.76px\;">&bull\; Kleenex</span><br style="color: rgb(75\, 79\, 86)\; font-family: helvetica\, arial\, sans-serif\; font-size: 14px\; line-height: 18.76px\;" />\n<span style="color: rgb(75\, 79\, 86)\; font-family: helvetica\, arial\, sans-serif\; font-size: 14px\; line-height: 18.76px\;">&bull\; Hand sanitizer</span><br style="color: rgb(75\, 79\, 86)\; font-family: helvetica\, arial\, sans-serif\; font-size: 14px\; line-height: 18.76px\;" />\n<span style="color: rgb(75\, 79\, 86)\; font-family: helvetica\, arial\, sans-serif\; font-size: 14px\; line-height: 18.76px\;">&bull\; Clorox wipes</span><br style="color: rgb(75\, 79\, 86)\; font-family: helvetica\, arial\, sans-serif\; font-size: 14px\; line-height: 18.76px\;" />\n<span style="color: rgb(75\, 79\, 86)\; font-family: helvetica\, arial\, sans-serif\; font-size: 14px\; line-height: 18.76px\;">&bull\; Crayons</span><br style="color: rgb(75\, 79\, 86)\; font-family: helvetica\, arial\, sans-serif\; font-size: 14px\; line-height: 18.76px\;" />\n<span style="color: rgb(75\, 79\, 86)\; font-family: helvetica\, arial\, sans-serif\; font-size: 14px\; line-height: 18.76px\;">&bull\; M</span><span class="text_exposed_show" style="display: inline\; font-family: helvetica\, arial\, sans-serif\; color: rgb(75\, 79\, 86)\; font-size: 14px\; line-height: 18.76px\;">arkers<br />\n&bull\; Glue sticks<br />\n&bull\; Wide ruled notebook paper<br />\n&bull\; Pencils<br />\n&bull\; Spiral notebooks<br />\n&bull\; Composition notebooks<br />\n&bull\; Socks/underwear</span>
LOCATION:Social House Fort Worth 840 Currie St\, Fort Worth\, Texas 76107
UID:e.1262.2872
SEQUENCE:3
DTSTAMP:20260422T023537Z
URL:https://business.fwmbcc.org/events/details/vision-fort-worth-socialize-for-school-supplies-08-03-2016-2872
END:VEVENT

END:VCALENDAR
