BEGIN:VCALENDAR
VERSION:2.0
PRODID:-//ChamberMaster//Event Calendar 2.0//EN
METHOD:PUBLISH
X-PUBLISHED-TTL:P3D
REFRESH-INTERVAL:P3D
CALSCALE:GREGORIAN
BEGIN:VEVENT
DTSTART:20160223T173000Z
DTEND:20160223T190000Z
X-MICROSOFT-CDO-ALLDAYEVENT:FALSE
SUMMARY:Union Gospel Mission of Tarrant Cnty-Heart n Motion w/Amy Grant
DESCRIPTION:Union Gospel Mission of Tarrant County presents Heart in Motion for the Homeless with Amy Grant.  The Award winning singer\, songwriter will share her testimony.
X-ALT-DESC;FMTTYPE=text/html:Union Gospel Mission of Tarrant County presents Heart in Motion for the Homeless with Amy Grant. &nbsp\;The Award winning singer\, songwriter will share her testimony.
LOCATION:Round Up Inn at Will Rogers
UID:e.1262.2511
SEQUENCE:3
DTSTAMP:20260422T122211Z
URL:https://business.fwmbcc.org/events/details/union-gospel-mission-of-tarrant-cnty-heart-n-motion-w-amy-grant-02-23-2016-2511
END:VEVENT

END:VCALENDAR
