BEGIN:VCALENDAR
VERSION:2.0
PRODID:-//ChamberMaster//Event Calendar 2.0//EN
METHOD:PUBLISH
X-PUBLISHED-TTL:P3D
REFRESH-INTERVAL:P3D
CALSCALE:GREGORIAN
BEGIN:VEVENT
DTSTART:20151216T180000Z
DTEND:20151216T190000Z
X-MICROSOFT-CDO-ALLDAYEVENT:FALSE
SUMMARY:UNCF-Tarrant County Mayor's Luncheon
DESCRIPTION:Net proceeds from the luncheon will generate scholarships\, operating support and financial assistance to under served youth.
X-ALT-DESC;FMTTYPE=text/html:Net proceeds from the luncheon will generate scholarships\, operating support and financial assistance to under served youth.
LOCATION:Fort Worth Club\, 306 W. 7th St.\, Ft. Worth TX
UID:e.1262.2248
SEQUENCE:3
DTSTAMP:20260422T121840Z
URL:https://business.fwmbcc.org/events/details/uncf-tarrant-county-mayor-s-luncheon-12-16-2015-2248
END:VEVENT

END:VCALENDAR
