BEGIN:VCALENDAR
VERSION:2.0
PRODID:-//ChamberMaster//Event Calendar 2.0//EN
METHOD:PUBLISH
X-PUBLISHED-TTL:P3D
REFRESH-INTERVAL:P3D
CALSCALE:GREGORIAN
BEGIN:VEVENT
DTSTART:20160423T133000Z
DTEND:20160423T180000Z
X-MICROSOFT-CDO-ALLDAYEVENT:FALSE
SUMMARY:Tx\, Wesleyan Inaugural 5K-Proceeds benefit student scholarships
DESCRIPTION:Texas Wesleyan University Inaugural Wesleyan 5K\n\nHosted by Texas Wesleyan Alumni Association\n\nProceeds benefit student scholarships\n\n**Kids Zone\, Vendor fair and more
X-ALT-DESC;FMTTYPE=text/html:<strong style="line-height: 20.8px\;">Texas Wesleyan University Inaugural Wesleyan 5K<br />\nHosted by Texas Wesleyan Alumni Association<br />\nProceeds benefit student scholarships</strong><br />\n**<b>Kids Zone\, Vendor fair and more</b>
LOCATION:Call for details
UID:e.1262.2783
SEQUENCE:3
DTSTAMP:20260422T091949Z
URL:https://business.fwmbcc.org/events/details/tx-wesleyan-inaugural-5k-proceeds-benefit-student-scholarships-04-23-2016-2783
END:VEVENT

END:VCALENDAR
