BEGIN:VCALENDAR
VERSION:2.0
PRODID:-//ChamberMaster//Event Calendar 2.0//EN
METHOD:PUBLISH
X-PUBLISHED-TTL:P3D
REFRESH-INTERVAL:P3D
CALSCALE:GREGORIAN
BEGIN:VEVENT
DTSTART:20151112T143000Z
DTEND:20151112T203000Z
X-MICROSOFT-CDO-ALLDAYEVENT:FALSE
SUMMARY:Tx. Veteran's Business Summit
DESCRIPTION:A program for Veterans\, active duty military and spouses. Workshops include Start ups\, Emerging Businesses\, Acclaimed Veteran Entrepreneurs and Experts as speakers.
X-ALT-DESC;FMTTYPE=text/html:A program for Veterans\, active duty military and spouses. Workshops include Start ups\, Emerging Businesses\, Acclaimed Veteran Entrepreneurs and Experts as speakers.
LOCATION:Dallas Central Library\, 1515 Young St.\, Dallas TX 75201
UID:e.1262.2287
SEQUENCE:3
DTSTAMP:20260422T104731Z
URL:https://business.fwmbcc.org/events/details/tx-veteran-s-business-summit-11-12-2015-2287
END:VEVENT

END:VCALENDAR
