BEGIN:VCALENDAR
VERSION:2.0
PRODID:-//ChamberMaster//Event Calendar 2.0//EN
METHOD:PUBLISH
X-PUBLISHED-TTL:P3D
REFRESH-INTERVAL:P3D
CALSCALE:GREGORIAN
BEGIN:VEVENT
DTSTART:20160210T150000Z
DTEND:20160210T190000Z
X-MICROSOFT-CDO-ALLDAYEVENT:FALSE
SUMMARY:TRWD Job Fair
DESCRIPTION:Tarrant Regional Water District Job Fair - Hiring seasonal Groundskeepers/Mowers. Applications will be completed onsite.
X-ALT-DESC;FMTTYPE=text/html:Tarrant Regional Water District Job Fair - Hiring seasonal Groundskeepers/Mowers. Applications will be completed onsite.
LOCATION:500 East Northside Drive\, Fort Worth Tx 76102
UID:e.1262.2430
SEQUENCE:3
DTSTAMP:20260422T121841Z
URL:https://business.fwmbcc.org/events/details/trwd-job-fair-02-10-2016-2430
END:VEVENT

END:VCALENDAR
