BEGIN:VCALENDAR
VERSION:2.0
PRODID:-//ChamberMaster//Event Calendar 2.0//EN
METHOD:PUBLISH
X-PUBLISHED-TTL:P3D
REFRESH-INTERVAL:P3D
CALSCALE:GREGORIAN
BEGIN:VEVENT
DTSTART:20180130T133000Z
DTEND:20180130T160000Z
X-MICROSOFT-CDO-ALLDAYEVENT:FALSE
SUMMARY:TOWN HALL MEETING Hosted by Legal Aid of Northwest Texas
DESCRIPTION:Are you a member of the legal community\, an area agency\, a community partner\, or an organization interested in learning more about Legal Aid and access to justice issues? Join us!\n\n\n\n                                        We want to hear from YOU!\n\n\n\nHelp us open a dialogue so we can best serve the legal needs of low-income individuals and families in our community\, remove barriers to justice\, and identify civil legal needs that are not being met.\n\n\nA light breakfast will be served.\n\n\n\nHosted by \n\nLegal Aid of NorthWest Texas\n\n600 E. Weatherford Street\n\nFort Worth\, Texas  76102
X-ALT-DESC;FMTTYPE=text/html:<p><span style="font-size:14px\;"><span style="font-family:tahoma\;">Are you a member of the legal community\, an area agency\, a community partner\, or an organization interested in learning more about Legal Aid and access to justice issues? Join us!<br />\n<br />\n&nbsp\; &nbsp\; &nbsp\; &nbsp\; &nbsp\; &nbsp\; &nbsp\; &nbsp\; &nbsp\; &nbsp\; &nbsp\; &nbsp\; &nbsp\; &nbsp\; &nbsp\; &nbsp\; &nbsp\; &nbsp\; &nbsp\; &nbsp\;&nbsp\;<strong>We want to hear from YOU!</strong><br />\n<br />\nHelp us open a dialogue so we can best serve the legal needs of low-income individuals and families in our community\, remove barriers to justice\, and identify civil legal needs that are not being met.</span></span></p>\n<br />\nA light breakfast will be served.<br />\n<br />\n<span style="font-size:12px\;">Hosted by&nbsp\;<br />\n<strong>Legal Aid of NorthWest Texas</strong><br />\n600 E. Weatherford Street<br />\nFort Worth\, Texas&nbsp\; 76102</span>
LOCATION:One Safe Place Auditorium - 1st Floor 1100 Hemphill Street Fort Worth\, Texas 76104
UID:e.1262.3063
SEQUENCE:3
DTSTAMP:20260421T233629Z
URL:https://business.fwmbcc.org/events/details/town-hall-meeting-hosted-by-legal-aid-of-northwest-texas-3063
END:VEVENT

END:VCALENDAR
