BEGIN:VCALENDAR
VERSION:2.0
PRODID:-//ChamberMaster//Event Calendar 2.0//EN
METHOD:PUBLISH
X-PUBLISHED-TTL:P3D
REFRESH-INTERVAL:P3D
CALSCALE:GREGORIAN
BEGIN:VEVENT
DTSTART:20160416T170000Z
DTEND:20160416T190000Z
X-MICROSOFT-CDO-ALLDAYEVENT:FALSE
SUMMARY:The Greater Fort Worth Area Negro Business and Professional Women's Club 41st Annual Founder's Day Luncheon
DESCRIPTION:The Greater Fort Worth Area Negro Business and Professional Women's Club will hold its 41st Annual Founders Day Luncheon to recognize distinguished members of the Fort Worth Community.\n\n\n\nSpeaker: Gleniece A. Robinson\, Ph.D
X-ALT-DESC;FMTTYPE=text/html:<br />\nThe Greater Fort Worth Area Negro Business and Professional Women&rsquo\;s Club will hold its&nbsp\;41st Annual Founders Day Luncheon to&nbsp\;<span style="line-height: 20.8px\;">recognize distinguished members of the Fort Worth Community.</span><br />\n<br />\nSpeaker: Gleniece A. Robinson\, Ph.D
LOCATION:Radisson Hotel Fort Worth Fossil Creek 2540 Meacham Blvd. Fort Worth\, Texas 76106
UID:e.1262.2839
SEQUENCE:3
DTSTAMP:20260422T092149Z
URL:https://business.fwmbcc.org/events/details/the-greater-fort-worth-area-negro-business-and-professional-women-s-club-41st-annual-founder-s-day-luncheon-04-16-2016-2839
END:VEVENT

END:VCALENDAR
