BEGIN:VCALENDAR
VERSION:2.0
PRODID:-//ChamberMaster//Event Calendar 2.0//EN
METHOD:PUBLISH
X-PUBLISHED-TTL:P3D
REFRESH-INTERVAL:P3D
CALSCALE:GREGORIAN
BEGIN:VEVENT
DTSTART:20190823T133000Z
DTEND:20190823T170000Z
X-MICROSOFT-CDO-ALLDAYEVENT:FALSE
SUMMARY:The Essentials of Your Business Plan
DESCRIPTION:Need to Create an Effective Business Plan?\n\n\n\nThis is the workshop for you!\n\nIf you're considering starting a business or need to refresh your business plan this is a workshop for you.\n\nPresented by Mike Reid or Steve Ruel\n\nLook at your business in a fresh new way while you create your business plan!\n\nFee $50\n\nLimited seating\, please RSVP early.\n\nWe recommend bringing your laptop or tablet.\n\nIn this 3-hour workshop you will:\n\n\n	Think strategically about your business\n	Actually write your business plan from scratch using a simple yet rigorous approach\n	Begin to learn how to establish Cash Flow projections\n\n\n \n\nIncludes a free subscription of StratPad Startups and Students edition.
X-ALT-DESC;FMTTYPE=text/html:<div class="cc-block" id="cc-block2" style="margin: 0px 0px 18px\; padding: 0px\; overflow: hidden\; color: rgb(51\, 51\, 51)\; font-family: Arial\, Helvetica\, sans-serif\; font-size: 12px\;">\n<p style="margin: 0px 0px 18px\; padding: 0px\;"><span style="color: rgb(0\, 0\, 255)\; font-size: 12pt\;" title="">Need to Create an Effective Business Plan?</span><br />\n<br />\n<span style="font-size: 12pt\;" title=""><span style="color: rgb(255\, 0\, 0)\;" title="">This is the workshop for you!</span></span></p>\n\n<p style="margin: 0px 0px 18px\; padding: 0px\;"><span style="font-size: 12pt\; color: rgb(0\, 0\, 255)\;" title="">If you&rsquo\;re considering starting a business or need to refresh your business plan this is a workshop for you.</span></p>\n\n<p style="margin: 0px 0px 18px\; padding: 0px\;"><span style="font-size: 12pt\;" title="">Presented by Mike Reid or Steve Ruel</span></p>\n\n<p style="margin: 0px 0px 18px\; padding: 0px\;"><span style="font-size: 12pt\;" title="">Look at your business in a fresh new way while you create your business plan!</span></p>\n\n<p style="margin: 0px 0px 18px\; padding: 0px\;"><span style="font-size: 12pt\; color: rgb(255\, 0\, 0)\;" title="">Fee $50</span></p>\n\n<p style="margin: 0px 0px 18px\; padding: 0px\;"><span style="font-size: 18pt\;" title="">Limited seating\, please RSVP early.</span></p>\n\n<p style="margin: 0px 0px 18px\; padding: 0px\;"><span style="color: rgb(255\, 0\, 0)\;" title=""><em><span style="font-size: 12pt\;" title="">We recommend bringing your laptop or tablet.</span></em></span></p>\n\n<p style="margin: 0px 0px 18px\; padding: 0px\;"><span style="font-size: 12pt\;" title="">In this 3-hour workshop you will:</span></p>\n\n<ul style="margin: 18px 0px 18px 18px\; padding: 0px\; list-style-position: outside\; list-style-image: initial\;">\n	<li style="margin: 0px\; padding: 0px\;"><span style="line-height: 1.45\; font-size: 12pt\;" title="">Think strategically about your business</span></li>\n	<li style="margin: 0px\; padding: 0px\;"><span style="line-height: 1.45\; font-size: 12pt\;" title="">Actually write your business plan from scratch using a simple yet rigorous approach</span></li>\n	<li style="margin: 0px\; padding: 0px\;"><span style="line-height: 1.45\; font-size: 12pt\;" title="">Begin to learn how to establish Cash Flow projections</span></li>\n</ul>\n\n<div style="margin: 0px\; padding: 0px\;">&nbsp\;</div>\n\n<div style="margin: 0px\; padding: 0px\;"><span style="line-height: 1.45\; font-size: 12pt\;" title=""><em><span style="font-size: 12pt\; color: rgb(255\, 0\, 0)\;" title="">Includes a free subscription of StratPad Startups and Students edition.</span></em></span></div>\n</div>\n
LOCATION:James E. Guinn Complex 1150 South Freeway Fort Worth\, TX 76104
UID:e.1262.4177
SEQUENCE:3
DTSTAMP:20260424T160222Z
URL:https://business.fwmbcc.org/events/details/the-essentials-of-your-business-plan-4177
END:VEVENT

END:VCALENDAR
