BEGIN:VCALENDAR
VERSION:2.0
PRODID:-//ChamberMaster//Event Calendar 2.0//EN
METHOD:PUBLISH
X-PUBLISHED-TTL:P3D
REFRESH-INTERVAL:P3D
CALSCALE:GREGORIAN
BEGIN:VEVENT
DTSTART:20170622T223000Z
DTEND:20170623T010000Z
X-MICROSOFT-CDO-ALLDAYEVENT:FALSE
SUMMARY:The 24th Annual Dr. Marion J. Brooks Living Legends Awards
DESCRIPTION:A night honoring area citizens who have dedicated their lives in service to their community.
X-ALT-DESC;FMTTYPE=text/html:A night honoring area citizens who have dedicated their lives in service to their community.
LOCATION:Fort Worth Public Library 500 W 3rd St. Fort Worth\, TX 76102
UID:e.1262.3044
SEQUENCE:3
DTSTAMP:20260421T131051Z
URL:https://business.fwmbcc.org/events/details/the-24th-annual-dr-marion-j-brooks-living-legends-awards-3044
END:VEVENT

END:VCALENDAR
