BEGIN:VCALENDAR
VERSION:2.0
PRODID:-//ChamberMaster//Event Calendar 2.0//EN
METHOD:PUBLISH
X-PUBLISHED-TTL:P3D
REFRESH-INTERVAL:P3D
CALSCALE:GREGORIAN
BEGIN:VEVENT
DTSTART:20160430T143000Z
DTEND:20160430T163000Z
X-MICROSOFT-CDO-ALLDAYEVENT:FALSE
SUMMARY:The 16th Annual "A World of Women for World Peace"
DESCRIPTION:Congresswoman Eddie Bernice Johnson hosts\, The 16th Annual "A World of Women for World Peace" Conference at 9:30a.m. - 11:30 a.m.\n\n\n\nMorton H. Meyereson Symphony center\, \n\n2301 Flora St. Dallas\n\nRSVP at 214.922.8885
X-ALT-DESC;FMTTYPE=text/html:Congresswoman Eddie Bernice Johnson hosts\, The 16th Annual &quot\;A World of Women for World Peace&quot\; Conference at 9:30a.m. - 11:30 a.m.<br />\n<br />\nMorton H. Meyereson Symphony center\,&nbsp\;<br />\n2301 Flora St.&nbsp\;Dallas<br />\nRSVP at 214.922.8885
LOCATION:Morton H. Meyereson Symphony center\, 2301 Flora St. Dallas
UID:e.1262.2849
SEQUENCE:3
DTSTAMP:20260422T092036Z
URL:https://business.fwmbcc.org/events/details/the-16th-annual-a-world-of-women-for-world-peace-04-30-2016-2849
END:VEVENT

END:VCALENDAR
