BEGIN:VCALENDAR
VERSION:2.0
PRODID:-//ChamberMaster//Event Calendar 2.0//EN
METHOD:PUBLISH
X-PUBLISHED-TTL:P3D
REFRESH-INTERVAL:P3D
CALSCALE:GREGORIAN
BEGIN:VEVENT
DTSTART:20160301T213000Z
DTEND:20160301T233000Z
X-MICROSOFT-CDO-ALLDAYEVENT:FALSE
SUMMARY:TEXRail Opportunity Forum
DESCRIPTION:The TEXRail project is a 27.2 mile\, 10 station regional passenger rail line linking downtown Fort Worth to DFW International Airport.  This forum is a must for interested contractors.  For more information about TEXRail please visit www.awhjv.com.  Interested contractors and subcontractors must complete the registration form at awhjv.com/registration.
X-ALT-DESC;FMTTYPE=text/html:<strong>The TEXRail project is a 27.2 mile\, 10 station regional passenger rail line linking downtown Fort Worth to DFW International Airport. &nbsp\;This forum is a must for interested contractors. &nbsp\;For more information about TEXRail&nbsp\;please visit www.awhjv.com. &nbsp\;Interested contractors and subcontractors must complete the registration form at awhjv.com/registration.</strong>
LOCATION:Intermodal Transportation Center located at 1001 Jones St\, Ft. Worth TX
UID:e.1262.2740
SEQUENCE:3
DTSTAMP:20260422T103917Z
URL:https://business.fwmbcc.org/events/details/texrail-opportunity-forum-03-01-2016-2740
END:VEVENT

END:VCALENDAR
