BEGIN:VCALENDAR
VERSION:2.0
PRODID:-//ChamberMaster//Event Calendar 2.0//EN
METHOD:PUBLISH
X-PUBLISHED-TTL:P3D
REFRESH-INTERVAL:P3D
CALSCALE:GREGORIAN
BEGIN:VEVENT
DTSTART:20210126T150000Z
DTEND:20210126T170000Z
X-MICROSOFT-CDO-ALLDAYEVENT:FALSE
SUMMARY:Texas State Veterans Home Minority Construction Outreach
DESCRIPTION:This in an information meeting on the construction of the veterans home in Fort Worth Texas.  There is a 21.1% minority participation goal on this project.
X-ALT-DESC;FMTTYPE=text/html:This in an information meeting on the construction of the veterans home in Fort Worth Texas.&nbsp\; There is a 21.1% minority participation goal on this project.&nbsp\;&nbsp\;
LOCATION:Description:Join from a PC\, Mac\, iPad\, iPhone or Android device: Please click this URL to join. https://us02web.zoom.us/s/88454881162 Or join by phone: Dial(for higher quality\, dial a number based on your current location): US: +1 346 248 7799 or +1 253 215 8782 or +1 669 900 9128 or +1 646 558 8656 or +1 301 715 8592 or +1 312 626 6799 Webinar ID: 884 5488 1162 International numbers available: https://us02web.zoom.us/u/kbhAPYq0zB
UID:e.1262.4820
SEQUENCE:3
DTSTAMP:20260425T175802Z
URL:https://business.fwmbcc.org/events/details/texas-state-veterans-home-minority-construction-outreach-4820
END:VEVENT

END:VCALENDAR
