BEGIN:VCALENDAR
VERSION:2.0
PRODID:-//ChamberMaster//Event Calendar 2.0//EN
METHOD:PUBLISH
X-PUBLISHED-TTL:P3D
REFRESH-INTERVAL:P3D
CALSCALE:GREGORIAN
BEGIN:VEVENT
DTSTART:20151213T010000Z
DTEND:20151213T040000Z
X-MICROSOFT-CDO-ALLDAYEVENT:FALSE
SUMMARY:Teddy Bear Concert Ft. Worth Civic Orchestra
DESCRIPTION:Bring the family for an evening of Holiday Favorites!! *****Please bring a new\, unwrapped stuffed animal to help the Ft Worth Police Department aid children in crisis.
X-ALT-DESC;FMTTYPE=text/html:Bring the family for an evening of Holiday Favorites!! *****Please bring a new\, unwrapped stuffed animal to help the Ft Worth Police Department aid children in crisis.
LOCATION:Truett Auditorium at the Southwestern Baptist Theological Seminary-2001 W. Seminary Drive\, Ft. Worth TX
UID:e.1262.2308
SEQUENCE:3
DTSTAMP:20260422T121934Z
URL:https://business.fwmbcc.org/events/details/teddy-bear-concert-ft-worth-civic-orchestra-12-12-2015-2308
END:VEVENT

END:VCALENDAR
