BEGIN:VCALENDAR
VERSION:2.0
PRODID:-//ChamberMaster//Event Calendar 2.0//EN
METHOD:PUBLISH
X-PUBLISHED-TTL:P3D
REFRESH-INTERVAL:P3D
CALSCALE:GREGORIAN
BEGIN:VEVENT
DTSTART:20190430T223000Z
DTEND:20190501T003000Z
X-MICROSOFT-CDO-ALLDAYEVENT:FALSE
SUMMARY:TCU All-Chamber Event
DESCRIPTION:Come out for an after-hours mixer with fellow business leaders from the Fort Worth Metropolitan Black Chamber of Commerce\, The Fort Worth Hispanic Chamber of Commerce\, The Fort Worth Chamber of Commerce\, US Pan Asian American Chamber of Commerce - Southwest and The Urban Inter-Tribal Center of Texas\n\n\n\n This event is hosted by TCU Community Outreach and will take place in the 3rd floor ballroom at the Brown Lupton University Union on the TCU Campus.\n\n\n\nBring plenty of business cards\, and come ready to meet fellow business leaders from across the area while you enjoy hors d'oeuvres and a hosted bar.\n\n\n\nPARKING and DIRECTIONS:\n\n Park free across the street from Brown Lupton at Lot 6 "Alumni Parking\," or free at the "Frog Alley" garage as listed in section A-2/3 on the TCU Campus Map (http://www.maps.tcu.edu/pdf/campus_map_color.pdf). Access this garage from Cantey\, Stadium\, or Highview Terrace.\n\n\n\nFrom the southeast corner of the LaDanian Tomlinson parking garage\, walk east to Stadium Drive\, then go right on Stadium to head south. The Brown Lupton University Union will be on your left\, just to the northeast of the stadium.
X-ALT-DESC;FMTTYPE=text/html:<span style="color: rgb(29\, 33\, 41)\; font-family: Helvetica\, Arial\, sans-serif\; font-size: 12px\; white-space: pre-wrap\;">Come out for an after-hours mixer with fellow business leaders from the Fort Worth Metropolitan Black Chamber of Commerce\, The Fort Worth Hispanic Chamber of Commerce\, The Fort Worth Chamber of Commerce\, US Pan Asian American Chamber of Commerce - Southwest and The Urban Inter-Tribal Center of Texas</span><br style="color: rgb(29\, 33\, 41)\; font-family: Helvetica\, Arial\, sans-serif\; font-size: 14px\; white-space: pre-wrap\; background-color: rgb(255\, 255\, 255)\;" />\n<br style="color: rgb(29\, 33\, 41)\; font-family: Helvetica\, Arial\, sans-serif\; font-size: 14px\; white-space: pre-wrap\; background-color: rgb(255\, 255\, 255)\;" />\n<span style="color: rgb(29\, 33\, 41)\; font-family: Helvetica\, Arial\, sans-serif\; font-size: 14px\; white-space: pre-wrap\; background-color: rgb(255\, 255\, 255)\;">&#8203\;This event is hosted by TCU Community Outreach and will take place in the 3rd floor ballroom at the Brown Lupton University Union on the TCU Campus.</span><br style="color: rgb(29\, 33\, 41)\; font-family: Helvetica\, Arial\, sans-serif\; font-size: 14px\; white-space: pre-wrap\; background-color: rgb(255\, 255\, 255)\;" />\n<br style="color: rgb(29\, 33\, 41)\; font-family: Helvetica\, Arial\, sans-serif\; font-size: 14px\; white-space: pre-wrap\; background-color: rgb(255\, 255\, 255)\;" />\n<span style="color: rgb(29\, 33\, 41)\; font-family: Helvetica\, Arial\, sans-serif\; font-size: 14px\; white-space: pre-wrap\; background-color: rgb(255\, 255\, 255)\;">Bring plenty of business cards\, and come ready to meet fellow business leaders from across the area while you enjoy hors d&#39\;oeuvres and a hosted bar.</span><br style="color: rgb(29\, 33\, 41)\; font-family: Helvetica\, Arial\, sans-serif\; font-size: 14px\; white-space: pre-wrap\; background-color: rgb(255\, 255\, 255)\;" />\n<br style="color: rgb(29\, 33\, 41)\; font-family: Helvetica\, Arial\, sans-serif\; font-size: 14px\; white-space: pre-wrap\; background-color: rgb(255\, 255\, 255)\;" />\n<span style="color: rgb(29\, 33\, 41)\; font-family: Helvetica\, Arial\, sans-serif\; font-size: 14px\; white-space: pre-wrap\; background-color: rgb(255\, 255\, 255)\;">PARKING and DIRECTIONS:</span><br style="color: rgb(29\, 33\, 41)\; font-family: Helvetica\, Arial\, sans-serif\; font-size: 14px\; white-space: pre-wrap\; background-color: rgb(255\, 255\, 255)\;" />\n<span style="color: rgb(29\, 33\, 41)\; font-family: Helvetica\, Arial\, sans-serif\; font-size: 14px\; white-space: pre-wrap\; background-color: rgb(255\, 255\, 255)\;">&#8203\;Park free across the street from Brown Lupton at Lot 6 &quot\;Alumni Parking\,&quot\; or free at the &quot\;Frog Alley&quot\; garage as listed in section A-2/3 on the TCU Campus Map (</span><a data-lynx-mode="hover" data-lynx-uri="https://l.facebook.com/l.php?u=http%3A%2F%2Fwww.maps.tcu.edu%2Fpdf%2Fcampus_map_color.pdf%3Ffbclid%3DIwAR2gnqXIHT6krxNytayU0FoqnIZlfG8eoSgkYgNnoXsn1M88CNLSgZ8sgbA&amp\;h=AT3SBLv7Kku_7Aovy1ArhDzQT0W5b1x29ihCy-Mh7hKV8ZfyLPpi5v3_th91VN69TLl6J8i24fYl0A0Kl998p3EFy7FC0W5lH8HmOL-55fh9S5V2h5vJ5yLUTH6Zd_KX" href="http://www.maps.tcu.edu/pdf/campus_map_color.pdf?fbclid=IwAR2gnqXIHT6krxNytayU0FoqnIZlfG8eoSgkYgNnoXsn1M88CNLSgZ8sgbA" rel="nofollow noopener" style="color: rgb(54\, 88\, 153)\; cursor: pointer\; text-decoration-line: none\; font-family: Helvetica\, Arial\, sans-serif\; font-size: 14px\; white-space: pre-wrap\; background-color: rgb(255\, 255\, 255)\;" target="_blank">http://www.maps.tcu.edu/pdf/campus_map_color.pdf</a><span style="color: rgb(29\, 33\, 41)\; font-family: Helvetica\, Arial\, sans-serif\; font-size: 14px\; white-space: pre-wrap\; background-color: rgb(255\, 255\, 255)\;">). Access this garage from Cantey\, Stadium\, or Highview Terrace.</span><br style="color: rgb(29\, 33\, 41)\; font-family: Helvetica\, Arial\, sans-serif\; font-size: 14px\; white-space: pre-wrap\; background-color: rgb(255\, 255\, 255)\;" />\n<br style="color: rgb(29\, 33\, 41)\; font-family: Helvetica\, Arial\, sans-serif\; font-size: 14px\; white-space: pre-wrap\; background-color: rgb(255\, 255\, 255)\;" />\n<span style="color: rgb(29\, 33\, 41)\; font-family: Helvetica\, Arial\, sans-serif\; font-size: 14px\; white-space: pre-wrap\; background-color: rgb(255\, 255\, 255)\;">From the southeast corner of the LaDanian Tomlinson parking garage\, walk east to Stadium Drive\, then go right on Stadium to head south. The Brown Lupton University Union will be on your left\, just to the northeast of the stadium.</span>
LOCATION:TCU Brown-Lupton University Union 2901 Stadium Drive Fort Worth\, Texas 76129
UID:e.1262.4151
SEQUENCE:3
DTSTAMP:20260424T100456Z
URL:https://business.fwmbcc.org/events/details/tcu-all-chamber-event-4151
END:VEVENT

END:VCALENDAR
