BEGIN:VCALENDAR
VERSION:2.0
PRODID:-//ChamberMaster//Event Calendar 2.0//EN
METHOD:PUBLISH
X-PUBLISHED-TTL:P3D
REFRESH-INTERVAL:P3D
CALSCALE:GREGORIAN
BEGIN:VEVENT
DTSTART:20151110T233000Z
DTEND:20151111T010000Z
X-MICROSOFT-CDO-ALLDAYEVENT:FALSE
SUMMARY:Tarrant Regional Water District Fair Contracting Quarterly Workshop Series
DESCRIPTION:Tarrant Regional Water District (TRWD) is hosting a series of information sessions to educate local businesses about upcoming contracting opportunities within TRWD's current pipeline project and the Trinity River Vision project. Information will be presented at the workshop regarding obtaining certifications for small or minority owned businesses.
X-ALT-DESC;FMTTYPE=text/html:Tarrant Regional Water District (TRWD) is hosting a series of information sessions to educate local businesses about upcoming contracting opportunities within TRWD&#39\;s current pipeline project and the Trinity River Vision project. Information will be presented at the workshop regarding obtaining certifications for small or minority owned businesses.
LOCATION:Charles Griffin Sub-Courthouse\, Admin. Bldg.\, 3500 Miller Ave.\, Ft. Worth Tx 76119
UID:e.1262.2271
SEQUENCE:3
DTSTAMP:20260422T122009Z
URL:https://business.fwmbcc.org/events/details/tarrant-regional-water-district-fair-contracting-quarterly-workshop-series-11-10-2015-2271
END:VEVENT

END:VCALENDAR
