BEGIN:VCALENDAR
VERSION:2.0
PRODID:-//ChamberMaster//Event Calendar 2.0//EN
METHOD:PUBLISH
X-PUBLISHED-TTL:P3D
REFRESH-INTERVAL:P3D
CALSCALE:GREGORIAN
BEGIN:VEVENT
DTSTART:20210331T140000Z
DTEND:20210331T190000Z
X-MICROSOFT-CDO-ALLDAYEVENT:FALSE
SUMMARY:Tarrant County Virtual Job Fair
DESCRIPTION:Tarrant County Virtual Job Fair   March 31\, 2021 from 9:00 a.m. to 2:00 p.m.   Via Easy Virtual Fair Virtually interact and interview with employers that are hiring now! It's time to make your next career move! Register now for our Tarrant County Virtual Job Fair! This live event will take place on Wednesday\, March 31\, 2021 from 9:00am   2:00pm. CST. After the live event has ended\, you will still be able to view information about the businesses that are hiring as well as express interest in job openings until Friday\, April 2nd at 5:00pm CST. You can find the link to register\, more information about the event (72 hours prior to the event we will list the Employers scheduled to attend and their open positions) and a short Video on how this platform works by visiting: https://workforcesolutions.net/event/tarrant-county-virtual-job-fair-033121/ Questions\, email us at: events@workforcesolutions.net
X-ALT-DESC;FMTTYPE=text/html:Tarrant County Virtual Job Fair &ndash\; March 31\, 2021 from 9:00 a.m. to 2:00 p.m. &ndash\; Via Easy Virtual Fair Virtually interact and interview with employers that are hiring now! It&rsquo\;s time to make your next career move! Register now for our Tarrant County Virtual Job Fair! This live event will take place on Wednesday\, March 31\, 2021 from 9:00am &ndash\; 2:00pm. CST. After the live event has ended\, you will still be able to view information about the businesses that are hiring as well as express interest in job openings until Friday\, April 2nd at 5:00pm CST. You can find the link to register\, more information about the event (72 hours prior to the event we will list the Employers scheduled to attend and their open positions) and a short Video on how this platform works by visiting: https://workforcesolutions.net/event/tarrant-county-virtual-job-fair-033121/ Questions\, email us at: events@workforcesolutions.net
LOCATION:Virtually - Registration is required
UID:e.1262.4859
SEQUENCE:3
DTSTAMP:20260425T204756Z
URL:https://business.fwmbcc.org/events/details/tarrant-county-virtual-job-fair-4859
END:VEVENT

END:VCALENDAR
