BEGIN:VCALENDAR
VERSION:2.0
PRODID:-//ChamberMaster//Event Calendar 2.0//EN
METHOD:PUBLISH
X-PUBLISHED-TTL:P3D
REFRESH-INTERVAL:P3D
CALSCALE:GREGORIAN
BEGIN:VEVENT
DTSTART:20160109T220000Z
DTEND:20160110T030000Z
X-MICROSOFT-CDO-ALLDAYEVENT:FALSE
SUMMARY:Tarrant County Movie Premiere-A Man Called Jon
DESCRIPTION:Join the FWMBCC Film Institute for it's eleventh movie premiere!! An inspirational film\, "A Man Called Jon" from the award winning Director M. Legend Brown. Shot in his hometown of Terrell\, Texas\, this story is a spiritual journey about a man trying to find out where his unusual style of praise honors God and does not embarrass his family.
X-ALT-DESC;FMTTYPE=text/html:<strong>Join the FWMBCC Film Institute for it&#39\;s eleventh movie premiere!! An inspirational film\, &quot\;A Man Called Jon&quot\; from the award winning Director M. Legend Brown. Shot in his hometown of Terrell\, Texas\, this story is a spiritual journey about a man trying to find out where his unusual style of praise honors God and does not embarrass his family.</strong>
LOCATION:Forest Hill Civic & Convention Center located at 6901 Wichita St.\, Forest Hill Texas
UID:e.1262.2364
SEQUENCE:3
DTSTAMP:20260422T135457Z
URL:https://business.fwmbcc.org/events/details/tarrant-county-movie-premiere-a-man-called-jon-01-09-2016-2364
END:VEVENT

END:VCALENDAR
