BEGIN:VCALENDAR
VERSION:2.0
PRODID:-//ChamberMaster//Event Calendar 2.0//EN
METHOD:PUBLISH
X-PUBLISHED-TTL:P3D
REFRESH-INTERVAL:P3D
CALSCALE:GREGORIAN
BEGIN:VEVENT
DTSTART:20160323T170000Z
DTEND:20160323T180000Z
X-MICROSOFT-CDO-ALLDAYEVENT:FALSE
SUMMARY:Tarrant County Mayor's Luncheon
DESCRIPTION:Tarrant County Mayors Luncheon benefits UNCF. Proceeds from luncheon will generate scholarships\, financial assistance to under-served youth and operating expenses.
X-ALT-DESC;FMTTYPE=text/html:Tarrant County Mayors Luncheon benefits&nbsp\;UNCF. Proceeds from luncheon will generate scholarships\, financial assistance to under-served youth and operating expenses.
LOCATION:The Fort Worth Club\, 306 W. 7th St.\, Ft. Worth TX
UID:e.1262.2429
SEQUENCE:3
DTSTAMP:20260422T104443Z
URL:https://business.fwmbcc.org/events/details/tarrant-county-mayor-s-luncheon-03-23-2016-2429
END:VEVENT

END:VCALENDAR
