BEGIN:VCALENDAR
VERSION:2.0
PRODID:-//ChamberMaster//Event Calendar 2.0//EN
METHOD:PUBLISH
X-PUBLISHED-TTL:P3D
REFRESH-INTERVAL:P3D
CALSCALE:GREGORIAN
BEGIN:VEVENT
DTSTART:20151007T123000Z
DTEND:20151007T140000Z
X-MICROSOFT-CDO-ALLDAYEVENT:FALSE
SUMMARY:Tandy Executive Speaker Series presented by the Neeley School of Business at TCU
DESCRIPTION:Neeley School of Business at TCU hosts the Tandy Executive Speaker Series 4 times yearly for prominent business leaders to share their success stories. Dina Dwyer Owens\, co-chair of Dwyer Group\, which includes 11 franchise service brands and more than 2100 locations across the globe will be the speaker on October 7th\, 2015.
X-ALT-DESC;FMTTYPE=text/html:Neeley School of Business at TCU hosts the Tandy Executive Speaker Series 4 times yearly for prominent business leaders to share their success stories. Dina Dwyer Owens\, co-chair of Dwyer Group\, which includes 11 franchise service brands and more than 2100 locations across the globe will be the speaker on October 7th\, 2015.
LOCATION:Brown-Lupton University Union\, 3rd floor ballroom\, 2901 Stadium Drive\, Ft. Worth Texas
UID:e.1262.2255
SEQUENCE:3
DTSTAMP:20260422T092036Z
URL:https://business.fwmbcc.org/events/details/tandy-executive-speaker-series-presented-by-the-neeley-school-of-business-at-tcu-10-07-2015-2255
END:VEVENT

END:VCALENDAR
