BEGIN:VCALENDAR
VERSION:2.0
PRODID:-//ChamberMaster//Event Calendar 2.0//EN
METHOD:PUBLISH
X-PUBLISHED-TTL:P3D
REFRESH-INTERVAL:P3D
CALSCALE:GREGORIAN
BEGIN:VEVENT
DTSTART:20151111T133000Z
DTEND:20151111T150000Z
X-MICROSOFT-CDO-ALLDAYEVENT:FALSE
SUMMARY:Tandy Executive Speaker Series Breakfast
DESCRIPTION:Neeley School of Business at TCU hosts the Tandy Speaker Series 4 times yearly for prominent business leaders to share successes\, challenges\, etc.  Speaker Robert Brunner\, Sr Managing Director FTI Consulting of San Francisco California.
X-ALT-DESC;FMTTYPE=text/html:Neeley School of Business at TCU hosts the Tandy Speaker Series 4 times yearly for prominent business leaders to share successes\, challenges\, etc. &nbsp\;Speaker Robert Brunner\, Sr Managing Director FTI Consulting of San Francisco California.
LOCATION:Brown-Lupton University Union\, 3rd floor Ballroom\, 2901 Stadium Drive\, TCU campus
UID:e.1262.2286
SEQUENCE:3
DTSTAMP:20260422T121702Z
URL:https://business.fwmbcc.org/events/details/tandy-executive-speaker-series-breakfast-11-11-2015-2286
END:VEVENT

END:VCALENDAR
