BEGIN:VCALENDAR
VERSION:2.0
PRODID:-//ChamberMaster//Event Calendar 2.0//EN
METHOD:PUBLISH
X-PUBLISHED-TTL:P3D
REFRESH-INTERVAL:P3D
CALSCALE:GREGORIAN
BEGIN:VEVENT
DTSTART:20151212T170000Z
DTEND:20151212T190000Z
X-MICROSOFT-CDO-ALLDAYEVENT:FALSE
SUMMARY:Step One:Starting a Business
DESCRIPTION:Workshop topics will include choosing a name\, your business plan and structure\, taxes\, insurance and more.
X-ALT-DESC;FMTTYPE=text/html:Workshop topics will include choosing a name\, your business plan and structure\, taxes\, insurance and more.
LOCATION:Business Assistance Center\, 1150 S. Freeway\, Ft. Worth TX
UID:e.1262.2303
SEQUENCE:3
DTSTAMP:20260422T121702Z
URL:https://business.fwmbcc.org/events/details/step-one-starting-a-business-12-12-2015-2303
END:VEVENT

END:VCALENDAR
