BEGIN:VCALENDAR
VERSION:2.0
PRODID:-//ChamberMaster//Event Calendar 2.0//EN
METHOD:PUBLISH
X-PUBLISHED-TTL:P3D
REFRESH-INTERVAL:P3D
CALSCALE:GREGORIAN
BEGIN:VEVENT
DTSTART:20151114T170000Z
DTEND:20151114T190000Z
X-MICROSOFT-CDO-ALLDAYEVENT:FALSE
SUMMARY:Step One: Starting a Business
DESCRIPTION:Topics will include choosing a name\, business structure\, planning\, taxes\, insurance and more.
X-ALT-DESC;FMTTYPE=text/html:Topics will include choosing a name\, business structure\, planning\, taxes\, insurance and more.
LOCATION:Ft Worth Business Assistance Center at 1150 S. Freeway\, Ft Worth Tx 76104
UID:e.1262.2290
SEQUENCE:3
DTSTAMP:20260422T104315Z
URL:https://business.fwmbcc.org/events/details/step-one-starting-a-business-11-14-2015-2290
END:VEVENT

END:VCALENDAR
