BEGIN:VCALENDAR
VERSION:2.0
PRODID:-//ChamberMaster//Event Calendar 2.0//EN
METHOD:PUBLISH
X-PUBLISHED-TTL:P3D
REFRESH-INTERVAL:P3D
CALSCALE:GREGORIAN
BEGIN:VEVENT
DTSTART:20151105T000000Z
DTEND:20151105T020000Z
X-MICROSOFT-CDO-ALLDAYEVENT:FALSE
SUMMARY:Step One:Starting a Business
DESCRIPTION:Topics will include choosing a name\, business structure\, business planning\, insurance\, taxes and more
X-ALT-DESC;FMTTYPE=text/html:Topics will include choosing a name\, business structure\, business planning\, insurance\, taxes and more
LOCATION:Ft Worth Business Assistance Center- 1150 S. Freeway\, Ft. Worth Tx
UID:e.1262.2291
SEQUENCE:3
DTSTAMP:20260422T121702Z
URL:https://business.fwmbcc.org/events/details/step-one-starting-a-business-11-04-2015-2291
END:VEVENT

END:VCALENDAR
