BEGIN:VCALENDAR
VERSION:2.0
PRODID:-//ChamberMaster//Event Calendar 2.0//EN
METHOD:PUBLISH
X-PUBLISHED-TTL:P3D
REFRESH-INTERVAL:P3D
CALSCALE:GREGORIAN
BEGIN:VEVENT
DTSTART:20151010T160000Z
DTEND:20151010T180000Z
X-MICROSOFT-CDO-ALLDAYEVENT:FALSE
SUMMARY:Step One:Starting a Business
DESCRIPTION:This must attend workshop will discuss topics such as choosing a name\, your business structure\, business planning\, taxes\, insurance and more. You can purchase the Start Up Resources Guide ($10.00) that includes great information.
X-ALT-DESC;FMTTYPE=text/html:This must attend workshop will discuss topics such as choosing a name\, your business structure\, business planning\, taxes\, insurance and more. You can purchase the Start Up Resources Guide ($10.00) that includes great information.
LOCATION:Ft. Worth Business Assistance Center-1150 S. Freeway\, Ft. Worth TX
UID:e.1262.2272
SEQUENCE:3
DTSTAMP:20260422T091250Z
URL:https://business.fwmbcc.org/events/details/step-one-starting-a-business-10-10-2015-2272
END:VEVENT

END:VCALENDAR
