BEGIN:VCALENDAR
VERSION:2.0
PRODID:-//ChamberMaster//Event Calendar 2.0//EN
METHOD:PUBLISH
X-PUBLISHED-TTL:P3D
REFRESH-INTERVAL:P3D
CALSCALE:GREGORIAN
BEGIN:VEVENT
DTSTART:20160406T230000Z
DTEND:20160407T010000Z
X-MICROSOFT-CDO-ALLDAYEVENT:FALSE
SUMMARY:Step One: Starting a Business
DESCRIPTION:Step One Starting a Business
X-ALT-DESC;FMTTYPE=text/html:Step One Starting a Business&nbsp\;
LOCATION:Business Assistance Center 1150 S. Freeway Ft.Worth TX
UID:e.1262.2830
SEQUENCE:3
DTSTAMP:20260422T103808Z
URL:https://business.fwmbcc.org/events/details/step-one-starting-a-business-04-06-2016-2830
END:VEVENT

END:VCALENDAR
