BEGIN:VCALENDAR
VERSION:2.0
PRODID:-//ChamberMaster//Event Calendar 2.0//EN
METHOD:PUBLISH
X-PUBLISHED-TTL:P3D
REFRESH-INTERVAL:P3D
CALSCALE:GREGORIAN
BEGIN:VEVENT
DTSTART:20160126T170000Z
DTEND:20160126T190000Z
X-MICROSOFT-CDO-ALLDAYEVENT:FALSE
SUMMARY:Step One: Starting a Business
DESCRIPTION:Topics will include choosing a name\, business structure\, taxes\, business planning and many more.
X-ALT-DESC;FMTTYPE=text/html:<strong>Topics will include choosing a name\, business structure\, taxes\, business planning and many more.</strong>
LOCATION:Ft. Worth Business Assistance Center located at 1150 S. Freeway\, Fort Worth TX
UID:e.1262.2369
SEQUENCE:3
DTSTAMP:20260422T135201Z
URL:https://business.fwmbcc.org/events/details/step-one-starting-a-business-01-26-2016-2369
END:VEVENT

END:VCALENDAR
