BEGIN:VCALENDAR
VERSION:2.0
PRODID:-//ChamberMaster//Event Calendar 2.0//EN
METHOD:PUBLISH
X-PUBLISHED-TTL:P3D
REFRESH-INTERVAL:P3D
CALSCALE:GREGORIAN
BEGIN:VEVENT
DTSTART:20160501T000000Z
DTEND:20160501T020000Z
X-MICROSOFT-CDO-ALLDAYEVENT:FALSE
SUMMARY:State of the Community: Honoring Our African American Mayors
DESCRIPTION:State of the Community Presents: 4th Annual Honoring our African American Mayors.\n\n\n\nCome and enjoy music\, food\, award presentations\n\n\n\nYou Don't want to miss this event\n\n\n\nRSVP - TAMMY PIERCE 682.224.9600
X-ALT-DESC;FMTTYPE=text/html:<span style="color: rgb(34\, 34\, 34)\; font-family: Calibri\, sans-serif\; font-size: 14.6667px\; line-height: normal\;">State of the Community Presents: 4th Annual Honoring our African American Mayors.</span><br />\n<br />\nCome and enjoy music\, food\, award presentations<br />\n<br />\n<span style="color: rgb(34\, 34\, 34)\; font-family: Calibri\, sans-serif\; font-size: 14.6667px\; line-height: normal\;">You Don&#39\;t want to miss this event</span><br />\n<br />\n<span style="color: rgb(119\, 119\, 119)\; font-family: Arial\, Helvetica\, sans-serif\, 'MS Sans Serif'\; font-size: 12px\; line-height: normal\;">RSVP - TAMMY PIERCE 682.224.9600</span>
LOCATION:The Most Worshipful Prince Hall Grand Lodge 3433 Martin Luther King Frwy Fort Worth\, TX 76119\,
UID:e.1262.2841
SEQUENCE:3
DTSTAMP:20260422T105019Z
URL:https://business.fwmbcc.org/events/details/state-of-the-community-honoring-our-african-american-mayors-04-30-2016-2841
END:VEVENT

END:VCALENDAR
