BEGIN:VCALENDAR
VERSION:2.0
PRODID:-//ChamberMaster//Event Calendar 2.0//EN
METHOD:PUBLISH
X-PUBLISHED-TTL:P3D
REFRESH-INTERVAL:P3D
CALSCALE:GREGORIAN
BEGIN:VEVENT
DTSTART:20150922T160000Z
DTEND:20150922T180000Z
X-MICROSOFT-CDO-ALLDAYEVENT:FALSE
SUMMARY:Starting a Business Workshop
DESCRIPTION:First Step workshop for those starting a new business. Topics will include choosing business structure\, financing and banking.
X-ALT-DESC;FMTTYPE=text/html:First Step workshop for those starting a new business. Topics will include choosing business structure\, financing and banking.
LOCATION:Business Assistance Center-1150 S. Freeway\, Ft. Worth TX
UID:e.1262.2233
SEQUENCE:3
DTSTAMP:20260422T073329Z
URL:https://business.fwmbcc.org/events/details/starting-a-business-workshop-09-22-2015-2233
END:VEVENT

END:VCALENDAR
