BEGIN:VCALENDAR
VERSION:2.0
PRODID:-//ChamberMaster//Event Calendar 2.0//EN
METHOD:PUBLISH
X-PUBLISHED-TTL:P3D
REFRESH-INTERVAL:P3D
CALSCALE:GREGORIAN
BEGIN:VEVENT
DTSTART:20150912T160000Z
DTEND:20150912T180000Z
X-MICROSOFT-CDO-ALLDAYEVENT:FALSE
SUMMARY:Starting A Business Workshop
DESCRIPTION:First step workshop for starting a business. Topics will include banking\, choosing the right name and financing.
X-ALT-DESC;FMTTYPE=text/html:First step workshop for starting a business. Topics will include banking\, choosing the right name and financing.
LOCATION:Business Assistance Center-1150 S. Freeway\, Ft. Worth TX
UID:e.1262.2232
SEQUENCE:3
DTSTAMP:20260422T073324Z
URL:https://business.fwmbcc.org/events/details/starting-a-business-workshop-09-12-2015-2232
END:VEVENT

END:VCALENDAR
