BEGIN:VCALENDAR
VERSION:2.0
PRODID:-//ChamberMaster//Event Calendar 2.0//EN
METHOD:PUBLISH
X-PUBLISHED-TTL:P3D
REFRESH-INTERVAL:P3D
CALSCALE:GREGORIAN
BEGIN:VEVENT
DTSTART:20150902T230000Z
DTEND:20150903T010000Z
X-MICROSOFT-CDO-ALLDAYEVENT:FALSE
SUMMARY:Starting a Business
DESCRIPTION:First step workshop for Starting a Business. Topics will include choosing the right name for your business\, banking and insurance. FREE
X-ALT-DESC;FMTTYPE=text/html:First step workshop for Starting a Business. Topics will include choosing the right name for your business\, banking and insurance. FREE
LOCATION:Business Assistance Center - 1150 S. Freeway\, Ft. Worth TX
UID:e.1262.2231
SEQUENCE:3
DTSTAMP:20260422T073406Z
URL:https://business.fwmbcc.org/events/details/starting-a-business-09-02-2015-2231
END:VEVENT

END:VCALENDAR
