BEGIN:VCALENDAR
VERSION:2.0
PRODID:-//ChamberMaster//Event Calendar 2.0//EN
METHOD:PUBLISH
X-PUBLISHED-TTL:P3D
REFRESH-INTERVAL:P3D
CALSCALE:GREGORIAN
BEGIN:VEVENT
DTSTART:20151031T003000Z
DTEND:20151031T030000Z
X-MICROSOFT-CDO-ALLDAYEVENT:FALSE
SUMMARY:Stage Play-In God We Trust
DESCRIPTION:In God We Trust Stage Play by Bobby McMorris
X-ALT-DESC;FMTTYPE=text/html:In God We Trust Stage Play by Bobby McMorris
LOCATION:Ft Worth Community Arts Center Scott Theatre 1300 Gendy St.\, Ft. Worth Tx
UID:e.1262.2284
SEQUENCE:3
DTSTAMP:20260422T091422Z
URL:https://business.fwmbcc.org/events/details/stage-play-in-god-we-trust-10-30-2015-2284
END:VEVENT

END:VCALENDAR
