BEGIN:VCALENDAR
VERSION:2.0
PRODID:-//ChamberMaster//Event Calendar 2.0//EN
METHOD:PUBLISH
X-PUBLISHED-TTL:P3D
REFRESH-INTERVAL:P3D
CALSCALE:GREGORIAN
BEGIN:VEVENT
DTSTART:20170211T003000Z
DTEND:20170211T023000Z
X-MICROSOFT-CDO-ALLDAYEVENT:FALSE
SUMMARY:Speed Networking w/ the Fort Worth Arts Community
DESCRIPTION:The Fort Worth Metropolitan Black Chamber of Commerce (FWMBCC) has teamed up with the Art Galleries at TCU for a fast-paced speed networking event to introduce members and non-members to local artists and arts organizations in Fort Worth. Come learn more about these organizations\, artists\, and how you can get involved in the arts community. Music\, cocktails and lighter fare will be provided along with a tour of the MA Art History students exhibition with selections from TCU's permanent Art Collection.
X-ALT-DESC;FMTTYPE=text/html:The Fort Worth Metropolitan Black Chamber of Commerce (FWMBCC) has teamed up with the Art Galleries at TCU for a fast-paced speed networking event to introduce members and non-members to local artists and arts organizations in Fort Worth. Come learn more about these organizations\, artists\, and how you can get involved in the arts community. Music\, cocktails and lighter fare will be provided along with a tour of the MA Art History students exhibition with selections from TCU&#39\;s permanent Art Collection.&nbsp\;<br />\n<br />\n&nbsp\;
LOCATION:Moudy Gallery at TCU Moudy North Building 2805 S. University Drive Fort Worth\, TX 76109
UID:e.1262.2898
SEQUENCE:3
DTSTAMP:20260421T173507Z
URL:https://business.fwmbcc.org/events/details/speed-networking-w-the-fort-worth-arts-community-2898
END:VEVENT

END:VCALENDAR
