BEGIN:VCALENDAR
VERSION:2.0
PRODID:-//ChamberMaster//Event Calendar 2.0//EN
METHOD:PUBLISH
X-PUBLISHED-TTL:P3D
REFRESH-INTERVAL:P3D
CALSCALE:GREGORIAN
BEGIN:VEVENT
DTSTART:20151218T233000Z
DTEND:20151219T020000Z
X-MICROSOFT-CDO-ALLDAYEVENT:FALSE
SUMMARY:Southeast Ft. Worth Holiday Reception
DESCRIPTION:Annual Holiday Reception-Please RSVP by December 15th!!!!!! Business Casual Attire please
X-ALT-DESC;FMTTYPE=text/html:Annual Holiday Reception-Please RSVP by December 15th!!!!!! Business Casual Attire please
LOCATION:Treymark Vodka Nickels Distillery\, Inside Old Firehouse No. 5--503 Bryan Avenue\, Ft. Worth TX
UID:e.1262.2307
SEQUENCE:3
DTSTAMP:20260422T121703Z
URL:https://business.fwmbcc.org/events/details/southeast-ft-worth-holiday-reception-12-18-2015-2307
END:VEVENT

END:VCALENDAR
