BEGIN:VCALENDAR
VERSION:2.0
PRODID:-//ChamberMaster//Event Calendar 2.0//EN
METHOD:PUBLISH
X-PUBLISHED-TTL:P3D
REFRESH-INTERVAL:P3D
CALSCALE:GREGORIAN
BEGIN:VEVENT
DTSTART:20150925T163000Z
DTEND:20150925T190000Z
X-MICROSOFT-CDO-ALLDAYEVENT:FALSE
SUMMARY:Southeast Fort Worth Inc 2015 Annual Awards Luncheon
DESCRIPTION:Southeast Fort Worth Inc.\, 2015 Annual Awards Luncheon\n\nThe Future of Economic Development in North Texas
X-ALT-DESC;FMTTYPE=text/html:Southeast Fort Worth Inc.\, 2015 Annual Awards Luncheon<br />\nThe Future of Economic Development in North Texas
LOCATION:Omni Fort Worth Hotel\, 1300 Houston Street\, Fort Worth\, Texas 76102
UID:e.1262.2221
SEQUENCE:3
DTSTAMP:20260422T073713Z
URL:https://business.fwmbcc.org/events/details/southeast-fort-worth-inc-2015-annual-awards-luncheon-09-25-2015-2221
END:VEVENT

END:VCALENDAR
