BEGIN:VCALENDAR
VERSION:2.0
PRODID:-//ChamberMaster//Event Calendar 2.0//EN
METHOD:PUBLISH
X-PUBLISHED-TTL:P3D
REFRESH-INTERVAL:P3D
CALSCALE:GREGORIAN
BEGIN:VEVENT
DTSTART:20180615T000000Z
DTEND:20180615T013000Z
X-MICROSOFT-CDO-ALLDAYEVENT:FALSE
SUMMARY:Social Media: Creating Content with Focus and Precision in 2018
DESCRIPTION:A lighthearted view of Online Marketing and the future of SEO - a look behind the curtain.\n\n \n\n\n	How to gain your customers' attention in 2018.\n	Why is online marketing so important to the successful growth of small and new businesses?\n	What is the difference between online marketing and SEO?\n	A short history of SEO\n	SEO in 2018 and beyond (one practitioners opinion)\n	What does all of this mean to our small businesses/startup?\n	Your top 10 practical action list on how to get started/improve right now!\n	Practical idea exchange\n\n\nhttp://events.constantcontact.com/register/event?llr=fg4jspcab&oeidk=a07efcyel4k410e1115
X-ALT-DESC;FMTTYPE=text/html:<div style="margin-left: 15px\; color: rgb(91\, 91\, 91)\; font-size: 12px\;"><span style="color: rgb(0\, 0\, 0)\; font-family: Arial\, Verdana\, Helvetica\, sans-serif\; font-size: 19px\;">A lighthearted view of Online Marketing and the future of SEO - a look behind the curtain.</span><br />\n&nbsp\;</div>\n\n<ul>\n	<li style="color: rgb(51\, 51\, 51)\; font-family: &quot\;Times New Roman&quot\;\, Times\, serif\; font-size: 16px\; background-color: rgb(255\, 255\, 255)\;"><span style="color: rgb(0\, 0\, 0)\; font-family: Arial\, Verdana\, Helvetica\, sans-serif\; font-size: 19px\;">How to gain your customers&#39\; attention in 2018.</span></li>\n	<li style="color: rgb(51\, 51\, 51)\; font-family: &quot\;Times New Roman&quot\;\, Times\, serif\; font-size: 16px\; background-color: rgb(255\, 255\, 255)\; text-align: justify\;"><span style="color: rgb(0\, 0\, 0)\; font-family: Arial\, Verdana\, Helvetica\, sans-serif\; font-size: 19px\;">Why is online marketing so important to the successful growth of small and new businesses?</span></li>\n	<li style="color: rgb(51\, 51\, 51)\; font-family: &quot\;Times New Roman&quot\;\, Times\, serif\; font-size: 16px\; background-color: rgb(255\, 255\, 255)\; text-align: justify\;"><span style="color: rgb(0\, 0\, 0)\; font-family: Arial\, Verdana\, Helvetica\, sans-serif\; font-size: 19px\;">What is the difference between online marketing and SEO?</span></li>\n	<li style="color: rgb(51\, 51\, 51)\; font-family: &quot\;Times New Roman&quot\;\, Times\, serif\; font-size: 16px\; background-color: rgb(255\, 255\, 255)\; text-align: justify\;"><span style="color: rgb(0\, 0\, 0)\; font-family: Arial\, Verdana\, Helvetica\, sans-serif\; font-size: 19px\;">A short history of SEO</span></li>\n	<li style="color: rgb(51\, 51\, 51)\; font-family: &quot\;Times New Roman&quot\;\, Times\, serif\; font-size: 16px\; background-color: rgb(255\, 255\, 255)\; text-align: justify\;"><span style="color: rgb(0\, 0\, 0)\; font-family: Arial\, Verdana\, Helvetica\, sans-serif\; font-size: 19px\;">SEO in 2018 and beyond (one practitioners opinion)</span></li>\n	<li style="color: rgb(51\, 51\, 51)\; font-family: &quot\;Times New Roman&quot\;\, Times\, serif\; font-size: 16px\; background-color: rgb(255\, 255\, 255)\; text-align: justify\;"><span style="color: rgb(0\, 0\, 0)\; font-family: Arial\, Verdana\, Helvetica\, sans-serif\; font-size: 19px\;">What does all of this mean to our small businesses/startup?</span></li>\n	<li style="color: rgb(51\, 51\, 51)\; font-family: &quot\;Times New Roman&quot\;\, Times\, serif\; font-size: 16px\; background-color: rgb(255\, 255\, 255)\; text-align: justify\;"><span style="color: rgb(0\, 0\, 0)\; font-family: Arial\, Verdana\, Helvetica\, sans-serif\; font-size: 19px\;">Your top 10 practical action list on how to get started/improve right now!</span></li>\n	<li style="color: rgb(51\, 51\, 51)\; font-family: &quot\;Times New Roman&quot\;\, Times\, serif\; font-size: 16px\; background-color: rgb(255\, 255\, 255)\; text-align: justify\;"><span style="color: rgb(0\, 0\, 0)\; font-family: Arial\, Verdana\, Helvetica\, sans-serif\; font-size: 19px\;">Practical idea exchange</span></li>\n</ul>\n\n<div style="color: rgb(51\, 51\, 51)\; font-family: &quot\;Times New Roman&quot\;\, Times\, serif\; font-size: 16px\; background-color: rgb(255\, 255\, 255)\;"><a data-saferedirecturl="https://www.google.com/url?hl=en&amp\;q=http://events.constantcontact.com/register/event?llr%3Dfg4jspcab%26oeidk%3Da07efcyel4k410e1115&amp\;source=gmail&amp\;ust=1528295915605000&amp\;usg=AFQjCNHnq9wJm7OUg046eAbB5iiEw_96iA" href="http://events.constantcontact.com/register/event?llr=fg4jspcab&amp\;oeidk=a07efcyel4k410e1115" style="color: rgb(17\, 85\, 204)\;" target="_blank">http://events.constantcontact.<wbr />com/register/event?llr=fg4jspc<wbr />ab&amp\;oeidk=a07efcyel4k410e1115</a></div>\n
LOCATION:Pinnstation 201 E Abram St. Arlington\, TX 76010
UID:e.1262.4109
SEQUENCE:3
DTSTAMP:20260422T091422Z
URL:https://business.fwmbcc.org/events/details/social-media-creating-content-with-focus-and-precision-in-2018-4109
END:VEVENT

END:VCALENDAR
