BEGIN:VCALENDAR
VERSION:2.0
PRODID:-//ChamberMaster//Event Calendar 2.0//EN
METHOD:PUBLISH
X-PUBLISHED-TTL:P3D
REFRESH-INTERVAL:P3D
CALSCALE:GREGORIAN
BEGIN:VEVENT
DTSTART:20180714T140000Z
DTEND:20180714T190000Z
X-MICROSOFT-CDO-ALLDAYEVENT:FALSE
SUMMARY:SmallBusiness Essentials Workshop - Everything You Need NOW
DESCRIPTION:From Planning to Marketing to Legal to Insurance. All in one day.\n\n\n\nOur Small Business Essentials Workshop will provide you an invaluable Overview of the major aspects facing a new business Owner/Manager - in a one day meeting\, with industry professionals to instruct you and answer your questions!\n\nSubjects Include:\n\n        Business Planning (Cle Royal)\n\n        SBA Overview (SBA Expert Linda Williams)\n\n        Access to Capital (SCORE Mentor Kim Boyden)\n\n        Insurance (Certified Insurance professional Linda Hull)\n\n        Taxes and Record Keepping (SCORE Mentor/CPA Larry Clevenger)\n\n        Legal considerations (SCORE Mentor/Attorney Jim Runzheimer)\n\nMaterials & Lunch are included\n\n(PREPAID RESERVATIONS ARE GUARANTEED)\n\nhttp://events.constantcontact.com/register/event?llr=fg4jspcab&oeidk=a07effgzh7t05ab2e82
X-ALT-DESC;FMTTYPE=text/html:<div style="font-family: &quot\;Times New Roman&quot\;\, Times\, serif\; font-size: 16px\;"><span style="color: black\; font-family: Arial\, Verdana\, Helvetica\, sans-serif\;">From Planning to Marketing to Legal to Insurance. All in one day.</span></div>\n\n<div style="font-family: &quot\;Times New Roman&quot\;\, Times\, serif\; font-size: 16px\;"><br />\n<span style="font-family: Arial\, Verdana\, Helvetica\, sans-serif\;">Our&nbsp\;Small&nbsp\;Business Essentials Workshop&nbsp\;will provide you an invaluable&nbsp\;Overview&nbsp\;of the&nbsp\;major aspects&nbsp\;facing a new&nbsp\;business Owner/Manager&nbsp\;- in a one day meeting\, with&nbsp\;industry professionals&nbsp\;to instruct you and answer your questions!</span></div>\n\n<div style="font-family: &quot\;Times New Roman&quot\;\, Times\, serif\; font-size: 16px\;"><span style="font-family: Arial\, Verdana\, Helvetica\, sans-serif\; font-size: 12px\;">Subjects Include:</span></div>\n\n<div style="font-family: &quot\;Times New Roman&quot\;\, Times\, serif\; font-size: 16px\;"><span style="font-size: 13px\;">&middot\;</span><span style="font-family: Georgia\, &quot\;Times New Roman&quot\;\, Times\, serif\; font-size: 9px\;">&nbsp\;&nbsp\;&nbsp\;&nbsp\;&nbsp\;&nbsp\;&nbsp\;</span><span style="font-family: Arial\, Verdana\, Helvetica\, sans-serif\; font-size: 12px\;">Business Planning (Cle Royal)</span></div>\n\n<div style="font-family: &quot\;Times New Roman&quot\;\, Times\, serif\; font-size: 16px\;"><span style="font-size: 13px\;">&middot\;</span><span style="font-family: Georgia\, &quot\;Times New Roman&quot\;\, Times\, serif\; font-size: 9px\;">&nbsp\;&nbsp\;&nbsp\;&nbsp\;&nbsp\;&nbsp\;&nbsp\;</span><span style="font-family: Arial\, Verdana\, Helvetica\, sans-serif\; font-size: 12px\;">SBA Overview (SBA Expert Linda Williams)</span></div>\n\n<div style="font-family: &quot\;Times New Roman&quot\;\, Times\, serif\; font-size: 16px\;"><span style="font-size: 13px\;">&middot\;</span><span style="font-family: Georgia\, &quot\;Times New Roman&quot\;\, Times\, serif\; font-size: 9px\;">&nbsp\;&nbsp\;&nbsp\;&nbsp\;&nbsp\;&nbsp\;&nbsp\;</span><span style="font-family: Arial\, Verdana\, Helvetica\, sans-serif\; font-size: 12px\;">Access to Capital (SCORE Mentor Kim Boyden)</span></div>\n\n<div style="font-family: &quot\;Times New Roman&quot\;\, Times\, serif\; font-size: 16px\;"><span style="font-size: 13px\;">&middot\;</span><span style="font-family: Georgia\, &quot\;Times New Roman&quot\;\, Times\, serif\; font-size: 9px\;">&nbsp\;&nbsp\;&nbsp\;&nbsp\;&nbsp\;&nbsp\;&nbsp\;</span><span style="font-family: Arial\, Verdana\, Helvetica\, sans-serif\; font-size: 12px\;">Insurance (Certified Insurance professional Linda Hull)</span></div>\n\n<div style="font-family: &quot\;Times New Roman&quot\;\, Times\, serif\; font-size: 16px\;"><span style="font-size: 13px\;">&middot\;</span><span style="font-family: Georgia\, &quot\;Times New Roman&quot\;\, Times\, serif\; font-size: 9px\;">&nbsp\;&nbsp\;&nbsp\;&nbsp\;&nbsp\;&nbsp\;&nbsp\;</span><span style="font-family: Arial\, Verdana\, Helvetica\, sans-serif\; font-size: 12px\;">Taxes and Record Keepping (SCORE Mentor/CPA Larry Clevenger)</span></div>\n\n<div style="font-family: &quot\;Times New Roman&quot\;\, Times\, serif\; font-size: 16px\;"><span style="font-size: 13px\;">&middot\;</span><span style="font-family: Georgia\, &quot\;Times New Roman&quot\;\, Times\, serif\; font-size: 9px\;">&nbsp\;&nbsp\;&nbsp\;&nbsp\;&nbsp\;&nbsp\;&nbsp\;</span><span style="font-family: Arial\, Verdana\, Helvetica\, sans-serif\; font-size: 12px\;">Legal considerations (SCORE Mentor/Attorney Jim Runzheimer)</span></div>\n\n<div style="font-family: &quot\;Times New Roman&quot\;\, Times\, serif\; font-size: 16px\;"><strong><span style="font-family: Arial\, Verdana\, Helvetica\, sans-serif\; font-size: 12px\;">Materials &amp\; Lunch are included</span></strong></div>\n\n<div style="font-family: &quot\;Times New Roman&quot\;\, Times\, serif\; font-size: 16px\;"><strong><span style="font-family: Arial\, Verdana\, Helvetica\, sans-serif\; font-size: 12px\;">(PREPAID RESERVATIONS ARE GUARANTEED)</span></strong></div>\n\n<div style="font-family: &quot\;Times New Roman&quot\;\, Times\, serif\; font-size: 16px\;"><a data-saferedirecturl="https://www.google.com/url?hl=en&amp\;q=http://r20.rs6.net/tn.jsp?f%3D001OUl8_4D22GsOhrVY8gySrP0u8lQNqmPNcu8IbUjnh2jRVqZrplBefm2wPDvKClhOSjcjA8g3kGkaQE8eiUzPeEYMG7Ck5Tiw9f-IRoBRFHjrvpFiRL0dCKGv9inVTya3jLFuLtag-lHHHWxjUJzJHpViyIW612wuDj1WZrWJKDApHvfKXSlYd7HuyDzaI8x06LD_c1krQ1YNWjyx4yr7V43rRZJmYRXaHlbcQs8FJwnhmypzg88s4g%3D%3D%26c%3DYPjvK8qF2o6mrUsiYwJTD-8ILrAn8nUfZxxuG2FWujREB7R5e7eQ-w%3D%3D%26ch%3DO6tYgmwE8i35KX0G90ixiLrm50qmARnrIti2Vf0S-cxs0uUJEm_Ckw%3D%3D&amp\;source=gmail&amp\;ust=1531500407904000&amp\;usg=AFQjCNHWcDkFSQXGQ9Id-hG5m1fIVIq9kQ" href="http://r20.rs6.net/tn.jsp?f=001OUl8_4D22GsOhrVY8gySrP0u8lQNqmPNcu8IbUjnh2jRVqZrplBefm2wPDvKClhOSjcjA8g3kGkaQE8eiUzPeEYMG7Ck5Tiw9f-IRoBRFHjrvpFiRL0dCKGv9inVTya3jLFuLtag-lHHHWxjUJzJHpViyIW612wuDj1WZrWJKDApHvfKXSlYd7HuyDzaI8x06LD_c1krQ1YNWjyx4yr7V43rRZJmYRXaHlbcQs8FJwnhmypzg88s4g==&amp\;c=YPjvK8qF2o6mrUsiYwJTD-8ILrAn8nUfZxxuG2FWujREB7R5e7eQ-w==&amp\;ch=O6tYgmwE8i35KX0G90ixiLrm50qmARnrIti2Vf0S-cxs0uUJEm_Ckw==" style="color: rgb(91\, 91\, 91)\; font-family: Arial\, Verdana\, Helvetica\, sans-serif\; font-size: 12px\;" target="_blank">http://events.constantcontact.<wbr />com/register/event?llr=fg4jspc<wbr />ab&amp\;oeidk=a07effgzh7t05ab2e82</a></div>\n
LOCATION:Fort Worth Score Conference Room 1150 South Freeway Fort Worth\, Texas 76104
UID:e.1262.4120
SEQUENCE:3
DTSTAMP:20260422T103747Z
URL:https://business.fwmbcc.org/events/details/smallbusiness-essentials-workshop-everything-you-need-now-4120
END:VEVENT

END:VCALENDAR
