BEGIN:VCALENDAR
VERSION:2.0
PRODID:-//ChamberMaster//Event Calendar 2.0//EN
METHOD:PUBLISH
X-PUBLISHED-TTL:P3D
REFRESH-INTERVAL:P3D
CALSCALE:GREGORIAN
BEGIN:VEVENT
DTSTART:20180615T130000Z
DTEND:20180615T220000Z
X-MICROSOFT-CDO-ALLDAYEVENT:FALSE
SUMMARY:Small Business Master Class - July through November 2018
DESCRIPTION:Small Business Masterclass Series is a professional education program created specifically for entrepreneurs and small businesses with annual revenues of $1 million or less. During the five-month program\, participants will learn from top business and financial professionals\, work one-on-one with experienced leaders and develop effective plans and strategies for success.\n\nCourse Overview\n\nSmall Business Masterclass Series courses will cover a range of topics including business plans\, credit and budgeting\, cash flow management\, banking and financing\, accounting and recordkeeping\, human resources\, marketing and more. \n \n\nSummer Session - July 2018  to November 2018\n\nClass size is 15 participants approved by committee\n\nEvery other Thursday from 5:00 pm to 7:30 pm \n\n1150 South Fwy\, Ste 108\, Fort Worth\, TX 76104\n\nDeadline to apply is: June 15\, 2018. Apply Now!\n\nProgram Benefits\n\nUpon acceptance into the Small Business Masterclass Series program\, participants will be assigned a Dallas or Fort Worth Score mentor who will provide one-on-one support throughout the semester. Score is a resource partner with the SBA.\n\nProgram graduates will receive Small Business Masterclass Series certification\, a business savings account dollar-for-dollar match up to $500 at a participating bank\,1 an unsecured business loan up to $5\,000 or a secured business loan up to $10\,000 along with ongoing mentorship through SCORE. One participant will be named winner of the Business Pitch Presentation Final and receive a new laptop and wireless printer.\n \n\nHow to Apply\n\nTo be considered for the Small Business Masterclass Series\, applicants must meet the following requirements:\n\n*  In business more than one year (business tax ID required)\n\n*  Annual revenue of $1 million or under and be profitable\n\n*  Submit at least an initial draft of a business plan\n\n*  Agree to attend 80% of classes and meet with your Dallas or Fort Worth SCORE mentor monthly\n\n*  Open a LegacyTexas Business Savings account with a minimum deposit of $100\n\n\n\n \n\nThe Small Business Masterclass Series is provided at no cost to the attendees\; this is provided by a grant from Legacy Bank.
X-ALT-DESC;FMTTYPE=text/html:<div dir="ltr" style="color: rgb(51\, 51\, 51)\; font-family: Arial\, Helvetica\, sans-serif\; font-size: 13.3333px\; background-color: rgb(255\, 255\, 255)\; line-height: 1.224\; margin-top: 0pt\; margin-bottom: 0pt\; margin-right: 58pt\;"><span style="white-space: pre-wrap\; font-weight: bold\; vertical-align: baseline\; font-size: 11pt\; font-family: Arial\; font-variant-east-asian: normal\; font-variant-numeric: normal\;">Small Business Masterclass Series </span><span style="white-space: pre-wrap\; vertical-align: baseline\; font-size: 11pt\; font-family: Arial\; font-variant-east-asian: normal\; font-variant-numeric: normal\;">is a professional education program created specifically for entrepreneurs and small businesses with annual revenues of $1 million or less. During the five-month program\, participants will learn from top business and financial professionals\, work one-on-one with experienced leaders and develop effective plans and strategies for success.</span></div>\n\n<h1 dir="ltr" style="color: rgb(51\, 51\, 51)\; font-family: Arial\, Helvetica\, sans-serif\; background-color: rgb(255\, 255\, 255)\; line-height: 1.38\; margin-top: 9pt\; margin-bottom: 6pt\;"><span style="color: rgb(0\, 119\, 190)\; white-space: pre-wrap\; vertical-align: baseline\; font-size: 23pt\; font-family: Arial\; font-variant-east-asian: normal\; font-variant-numeric: normal\;">Course Overview</span></h1>\n\n<div dir="ltr" style="color: rgb(51\, 51\, 51)\; font-family: Arial\, Helvetica\, sans-serif\; font-size: 13.3333px\; background-color: rgb(255\, 255\, 255)\; line-height: 1.38\; margin-top: 0pt\; margin-bottom: 0pt\;"><span style="white-space: pre-wrap\; font-weight: bold\; vertical-align: baseline\; font-size: 11pt\; font-family: Arial\; font-variant-east-asian: normal\; font-variant-numeric: normal\;">Small Business Masterclass Series </span><span style="white-space: pre-wrap\; vertical-align: baseline\; font-size: 11pt\; font-family: Arial\; font-variant-east-asian: normal\; font-variant-numeric: normal\;">courses will cover a range of topics including business plans\, credit and budgeting\, cash flow management\, banking and financing\, accounting and recordkeeping\, human resources\, marketing and more. </span></div>\n&nbsp\;\n\n<div dir="ltr" style="color: rgb(51\, 51\, 51)\; font-family: Arial\, Helvetica\, sans-serif\; font-size: 13.3333px\; background-color: rgb(255\, 255\, 255)\; line-height: 1.38\; margin-top: 0pt\; margin-bottom: 0pt\;"><span style="white-space: pre-wrap\; vertical-align: baseline\; font-size: 11pt\; font-family: Arial\; font-variant-east-asian: normal\; font-variant-numeric: normal\;">Summer Session - July 2018 &nbsp\;to November 2018</span><br />\n<span style="white-space: pre-wrap\; vertical-align: baseline\; font-size: 11pt\; font-family: Arial\; font-variant-east-asian: normal\; font-variant-numeric: normal\;">Class size is 15 participants approved by committee</span></div>\n\n<div dir="ltr" style="color: rgb(51\, 51\, 51)\; font-family: Arial\, Helvetica\, sans-serif\; font-size: 13.3333px\; background-color: rgb(255\, 255\, 255)\; line-height: 1.38\; margin-top: 0pt\; margin-bottom: 0pt\;"><span style="white-space: pre-wrap\; vertical-align: baseline\; font-size: 11pt\; font-family: Arial\; font-variant-east-asian: normal\; font-variant-numeric: normal\;">Every other Thursday from <span class="aBn" data-term="goog_1820631573" style="border-bottom: 1px dashed rgb(204\, 204\, 204)\; position: relative\; top: -2px\; z-index: 0\;" tabindex="0"><span class="aQJ" style="position: relative\; top: 2px\; z-index: -1\;">5:00 pm to 7:30 pm</span></span> </span><br />\n<span style="white-space: pre-wrap\; vertical-align: baseline\; font-size: 11pt\; font-family: Arial\; font-variant-east-asian: normal\; font-variant-numeric: normal\;"><a data-saferedirecturl="https://www.google.com/url?hl=en&amp\;q=https://maps.google.com/?q%3D1150%2BSouth%2BFwy\,%2BSte%2B108\,%2BFort%2BWorth\,%2BTX%2B76104%26entry%3Dgmail%26source%3Dg&amp\;source=gmail&amp\;ust=1524672698192000&amp\;usg=AFQjCNF-FDuESTS1MpjZ5TxgGmvN55XZaA" href="https://maps.google.com/?q=1150+South+Fwy\,+Ste+108\,+Fort+Worth\,+TX+76104&amp\;entry=gmail&amp\;source=g" style="color: rgb(17\, 85\, 204)\;" target="_blank">1150 South Fwy\, Ste 108\, Fort Worth\, TX 76104</a></span></div>\n\n<div dir="ltr" style="color: rgb(51\, 51\, 51)\; font-family: Arial\, Helvetica\, sans-serif\; font-size: 13.3333px\; background-color: rgb(255\, 255\, 255)\; line-height: 1.38\; margin-top: 0pt\; margin-bottom: 0pt\;"><span style="white-space: pre-wrap\; vertical-align: baseline\; font-size: 11pt\; font-family: Arial\; font-variant-east-asian: normal\; font-variant-numeric: normal\;">Deadline to apply is: <span class="aBn" data-term="goog_1820631574" style="border-bottom: 1px dashed rgb(204\, 204\, 204)\; position: relative\; top: -2px\; z-index: 0\;" tabindex="0"><span class="aQJ" style="position: relative\; top: 2px\; z-index: -1\;">June 15\, 2018</span></span>. Apply Now!</span></div>\n\n<h1 dir="ltr" style="color: rgb(51\, 51\, 51)\; font-family: Arial\, Helvetica\, sans-serif\; background-color: rgb(255\, 255\, 255)\; line-height: 1.38\; margin-top: 24pt\; margin-bottom: 6pt\;"><span style="color: rgb(0\, 119\, 190)\; white-space: pre-wrap\; vertical-align: baseline\; font-size: 23pt\; font-family: Arial\; font-variant-east-asian: normal\; font-variant-numeric: normal\;">Program Benefits</span></h1>\n\n<div dir="ltr" style="color: rgb(51\, 51\, 51)\; font-family: Arial\, Helvetica\, sans-serif\; font-size: 13.3333px\; background-color: rgb(255\, 255\, 255)\; line-height: 1.224\; margin-top: 4pt\; margin-bottom: 0pt\; margin-right: 26pt\;"><span style="white-space: pre-wrap\; vertical-align: baseline\; font-size: 11pt\; font-family: Arial\; font-variant-east-asian: normal\; font-variant-numeric: normal\;">Upon acceptance into the </span><span style="white-space: pre-wrap\; font-weight: bold\; vertical-align: baseline\; font-size: 11pt\; font-family: Arial\; font-variant-east-asian: normal\; font-variant-numeric: normal\;">Small Business Masterclass Series </span><span style="white-space: pre-wrap\; vertical-align: baseline\; font-size: 11pt\; font-family: Arial\; font-variant-east-asian: normal\; font-variant-numeric: normal\;">program\, participants will be assigned a Dallas or Fort Worth Score mentor who will provide one-on-one support throughout the semester. Score is a resource partner with the SBA.</span></div>\n\n<div dir="ltr" style="color: rgb(51\, 51\, 51)\; font-family: Arial\, Helvetica\, sans-serif\; font-size: 13.3333px\; background-color: rgb(255\, 255\, 255)\; line-height: 1.224\; margin-top: 7pt\; margin-bottom: 0pt\; margin-right: 59pt\;"><span style="white-space: pre-wrap\; vertical-align: baseline\; font-size: 11pt\; font-family: Arial\; font-variant-east-asian: normal\; font-variant-numeric: normal\;">Program graduates will receive </span><span style="white-space: pre-wrap\; font-weight: bold\; vertical-align: baseline\; font-size: 11pt\; font-family: Arial\; font-variant-east-asian: normal\; font-variant-numeric: normal\;">Small Business Masterclass Series </span><span style="white-space: pre-wrap\; vertical-align: baseline\; font-size: 11pt\; font-family: Arial\; font-variant-east-asian: normal\; font-variant-numeric: normal\;">certification\, a business savings account dollar-for-dollar match up to $500 at a participating bank\,</span><span style="white-space: pre-wrap\; vertical-align: baseline\; font-size: 5.5pt\; font-family: Arial\; font-variant-east-asian: normal\; font-variant-numeric: normal\;">1 </span><span style="white-space: pre-wrap\; vertical-align: baseline\; font-size: 11pt\; font-family: Arial\; font-variant-east-asian: normal\; font-variant-numeric: normal\;">an unsecured business loan up to $5\,000 or a secured business loan up to $10\,000 along with ongoing mentorship through SCORE. One participant will be named winner of the Business Pitch Presentation Final and receive a new laptop and wireless printer.</span></div>\n&nbsp\;\n\n<h1 dir="ltr" style="color: rgb(51\, 51\, 51)\; font-family: Arial\, Helvetica\, sans-serif\; background-color: rgb(255\, 255\, 255)\; line-height: 1.38\; margin-top: 9pt\; margin-bottom: 6pt\;"><span style="color: rgb(0\, 119\, 190)\; white-space: pre-wrap\; vertical-align: baseline\; font-size: 23pt\; font-family: Arial\; font-variant-east-asian: normal\; font-variant-numeric: normal\;">How to Apply</span></h1>\n\n<div dir="ltr" style="color: rgb(51\, 51\, 51)\; font-family: Arial\, Helvetica\, sans-serif\; font-size: 13.3333px\; background-color: rgb(255\, 255\, 255)\; line-height: 1.38\; margin-top: 4pt\; margin-bottom: 0pt\;"><span style="white-space: pre-wrap\; vertical-align: baseline\; font-size: 10pt\; font-family: Arial\; font-variant-east-asian: normal\; font-variant-numeric: normal\;">To be considered for the </span><span style="white-space: pre-wrap\; font-weight: bold\; vertical-align: baseline\; font-size: 10pt\; font-family: Arial\; font-variant-east-asian: normal\; font-variant-numeric: normal\;">Small Business Masterclass Series</span><span style="white-space: pre-wrap\; vertical-align: baseline\; font-size: 10pt\; font-family: Arial\; font-variant-east-asian: normal\; font-variant-numeric: normal\;">\, applicants must meet the following requirements:</span></div>\n\n<div dir="ltr" style="color: rgb(51\, 51\, 51)\; font-family: Arial\, Helvetica\, sans-serif\; font-size: 13.3333px\; background-color: rgb(255\, 255\, 255)\; line-height: 1.38\; margin-top: 3pt\; margin-bottom: 0pt\;"><span style="color: rgb(109\, 110\, 113)\; white-space: pre-wrap\; vertical-align: baseline\; font-size: 10pt\; font-family: Arial\; font-variant-east-asian: normal\; font-variant-numeric: normal\;">* &nbsp\;</span><span style="white-space: pre-wrap\; vertical-align: baseline\; font-size: 10pt\; font-family: Arial\; font-variant-east-asian: normal\; font-variant-numeric: normal\;">In business more than one year (business tax ID required)</span></div>\n\n<div dir="ltr" style="color: rgb(51\, 51\, 51)\; font-family: Arial\, Helvetica\, sans-serif\; font-size: 13.3333px\; background-color: rgb(255\, 255\, 255)\; line-height: 1.38\; margin-top: 0pt\; margin-bottom: 0pt\;"><span style="color: rgb(109\, 110\, 113)\; white-space: pre-wrap\; vertical-align: baseline\; font-size: 10pt\; font-family: Arial\; font-variant-east-asian: normal\; font-variant-numeric: normal\;">* &nbsp\;</span><span style="white-space: pre-wrap\; vertical-align: baseline\; font-size: 10pt\; font-family: Arial\; font-variant-east-asian: normal\; font-variant-numeric: normal\;">Annual revenue of $1 million or under and be profitable</span></div>\n\n<div dir="ltr" style="color: rgb(51\, 51\, 51)\; font-family: Arial\, Helvetica\, sans-serif\; font-size: 13.3333px\; background-color: rgb(255\, 255\, 255)\; line-height: 1.38\; margin-top: 3pt\; margin-bottom: 0pt\;"><span style="color: rgb(109\, 110\, 113)\; white-space: pre-wrap\; vertical-align: baseline\; font-size: 10pt\; font-family: Arial\; font-variant-east-asian: normal\; font-variant-numeric: normal\;">* &nbsp\;</span><span style="white-space: pre-wrap\; vertical-align: baseline\; font-size: 10pt\; font-family: Arial\; font-variant-east-asian: normal\; font-variant-numeric: normal\;">Submit at least an initial draft of a business plan</span></div>\n\n<div dir="ltr" style="color: rgb(51\, 51\, 51)\; font-family: Arial\, Helvetica\, sans-serif\; font-size: 13.3333px\; background-color: rgb(255\, 255\, 255)\; line-height: 1.38\; margin-top: 0pt\; margin-bottom: 0pt\;"><span style="color: rgb(109\, 110\, 113)\; white-space: pre-wrap\; vertical-align: baseline\; font-size: 10pt\; font-family: Arial\; font-variant-east-asian: normal\; font-variant-numeric: normal\;">* &nbsp\;</span><span style="white-space: pre-wrap\; vertical-align: baseline\; font-size: 10pt\; font-family: Arial\; font-variant-east-asian: normal\; font-variant-numeric: normal\;">Agree to attend 80% of classes and meet with your Dallas or Fort Worth SCORE mentor monthly</span></div>\n\n<div dir="ltr" style="color: rgb(51\, 51\, 51)\; font-family: Arial\, Helvetica\, sans-serif\; font-size: 13.3333px\; background-color: rgb(255\, 255\, 255)\; line-height: 1.38\; margin-top: 0pt\; margin-bottom: 0pt\;"><span style="color: rgb(109\, 110\, 113)\; white-space: pre-wrap\; vertical-align: baseline\; font-size: 10pt\; font-family: Arial\; font-variant-east-asian: normal\; font-variant-numeric: normal\;">* &nbsp\;</span><span style="white-space: pre-wrap\; vertical-align: baseline\; font-size: 10pt\; font-family: Arial\; font-variant-east-asian: normal\; font-variant-numeric: normal\;">Open a LegacyTexas Business Savings account with a minimum deposit of $100</span></div>\n\n<div dir="ltr" style="color: rgb(51\, 51\, 51)\; font-family: Arial\, Helvetica\, sans-serif\; font-size: 13.3333px\; background-color: rgb(255\, 255\, 255)\; line-height: 1.38\; margin-top: 0pt\; margin-bottom: 0pt\;"><br />\n&nbsp\;</div>\n\n<div dir="ltr" style="color: rgb(51\, 51\, 51)\; font-family: Arial\, Helvetica\, sans-serif\; font-size: 13.3333px\; background-color: rgb(255\, 255\, 255)\; line-height: 1.38\; margin-top: 0pt\; margin-bottom: 0pt\;"><span style="white-space: pre-wrap\; font-weight: bold\; vertical-align: baseline\; font-size: 11pt\; font-family: Arial\; font-variant-east-asian: normal\; font-variant-numeric: normal\;">The </span><span style="white-space: pre-wrap\; font-weight: bold\; vertical-align: baseline\; font-size: 10pt\; font-family: Arial\; font-variant-east-asian: normal\; font-variant-numeric: normal\;">Small Business Masterclass Series is provided at no cost to the attendees\; this is provided by a grant from Legacy Bank. </span></div>\n\n<div>&nbsp\;</div>\n
LOCATION:1150 South Freeway\, Suite 108 Fort Worth\, Texas 76104
UID:e.1262.4099
SEQUENCE:3
DTSTAMP:20260422T073329Z
URL:https://business.fwmbcc.org/events/details/small-business-master-class-july-through-november-2018-4099
END:VEVENT

END:VCALENDAR
