BEGIN:VCALENDAR
VERSION:2.0
PRODID:-//ChamberMaster//Event Calendar 2.0//EN
METHOD:PUBLISH
X-PUBLISHED-TTL:P3D
REFRESH-INTERVAL:P3D
CALSCALE:GREGORIAN
BEGIN:VEVENT
DTSTART:20180421T150000Z
DTEND:20180421T200000Z
X-MICROSOFT-CDO-ALLDAYEVENT:FALSE
SUMMARY:Small Business Convention
DESCRIPTION:This is the first Small Business Convention hosted at TCC South Campus. This year's student-run event\, organized by the Tarrant County College South Campus Business Club will offer Workshops that will provide information to help owners be successful in their businesses. We will have different types of exhibitors from Universities\, Small Business Administration\, Score\, Chambers of Commerce\, Veterans Business Outreach Center and much more!!\n\nThe goal is to provide networking\, education and resources for businesses and owners.\n\nThere will also be vendors onsite. A light breakfast and lunch will be served.
X-ALT-DESC;FMTTYPE=text/html:<span style="color: rgba(0\, 0\, 0\, 0.87)\; font-family: Roboto\, RobotoDraft\, Helvetica\, Arial\, sans-serif\; font-size: 13px\; white-space: pre-wrap\; background-color: rgb(255\, 255\, 255)\;">This is the first Small Business Convention hosted at TCC South Campus. This year&#39\;s student-run event\, organized by the Tarrant County College South Campus Business Club will offer Workshops that will provide information to help owners be successful in their businesses. We will have different types of exhibitors from Universities\, Small Business Administration\, Score\, Chambers of Commerce\, Veterans Business Outreach Center and much more!!<br />\nThe goal is to provide networking\, education and resources for businesses and owners.<br />\nThere will also be vendors onsite. A light breakfast and lunch will be served.</span>
LOCATION:Tarrant County College South Campus Student Building 5301 Campus Drive Fort Worth\, Texas 76119
UID:e.1262.3091
SEQUENCE:3
DTSTAMP:20260422T040929Z
URL:https://business.fwmbcc.org/events/details/small-business-convention-3091
END:VEVENT

END:VCALENDAR
