BEGIN:VCALENDAR
VERSION:2.0
PRODID:-//ChamberMaster//Event Calendar 2.0//EN
METHOD:PUBLISH
X-PUBLISHED-TTL:P3D
REFRESH-INTERVAL:P3D
CALSCALE:GREGORIAN
BEGIN:VEVENT
DTSTART:20180615T000000Z
DTEND:20180615T020000Z
X-MICROSOFT-CDO-ALLDAYEVENT:FALSE
SUMMARY:Simple Steps for Starting Your Business this Year
DESCRIPTION:DREAM BIG! \n\nDo you dream about starting a business?\n\n\n\nYou're not alone - millions of Americans share that dream. And yet\, not everyone has the courage to get started. But\, if you're ready to branch out on your own\, this workshop is for you.\n\nAction Points\n\n1) Getting Started \n\n2) Turning Your Ideas to a Business\n\n3) Marketing Your Business\n\n4) Financial Matters\n\n5) Stepping Out and taking action\n\n \n\nBring Your Laptop\n\nProper Planning Is Key. One myth is that the majority of small business fail. According to the Bureau of Labor Statistics\, after two years in business\, the majority of startups succeed\; after five years\, about half fail and half succeed. Proper planning and hard work is the only way to guard against failure. You are on the right track with Simple Steps for starting Your Business.\n\nhttp://events.constantcontact.com/register/event?llr=fg4jspcab&oeidk=a07efe7al30d3a953d4
X-ALT-DESC;FMTTYPE=text/html:<div style="margin-left: 15px\; color: rgb(91\, 91\, 91)\;"><span style="font-size: 12px\;"><em><span style="font-family:verdana\;"><strong>DREAM BIG! </strong></span></em><br />\nDo you dream about starting a business?<br />\n<br />\nYou&#39\;re not alone - millions of Americans share that dream. And yet\, not everyone has the courage to get started. But\, if you&#39\;re ready to branch out on your own\, this workshop is for you.</span></div>\n\n<blockquote style="color: rgb(51\, 51\, 51)\; font-family: &quot\;Times New Roman&quot\;\, Times\, serif\; font-size: 16px\; background-color: rgb(255\, 255\, 255)\;"><span style="font-size:14px\;">Action Points</span></blockquote>\n\n<div style="margin-left: 15px\;"><span style="font-size: 12px\;">1) Getting Started&nbsp\;</span></div>\n\n<div style="margin-left: 15px\;"><span style="font-size: 12px\;">2) Turning Your Ideas to a Business</span></div>\n\n<div style="margin-left: 15px\;"><span style="font-size: 12px\;">3) Marketing Your Business</span></div>\n\n<div style="margin-left: 15px\;"><span style="font-size: 12px\;">4) Financial Matters</span></div>\n\n<div style="margin-left: 15px\;"><span style="font-size: 12px\;">5) Stepping Out and taking action</span><br />\n&nbsp\;</div>\n\n<div style="margin-left: 15px\;"><span style="font-size: 12px\;"><span style="font-size: 12px\;">Bring Your Laptop</span></span></div>\n\n<blockquote style="color: rgb(51\, 51\, 51)\; font-family: &quot\;Times New Roman&quot\;\, Times\, serif\; font-size: 16px\; background-color: rgb(255\, 255\, 255)\;"><span style="font-size: 12px\;">Proper Planning Is Key. One myth is that the majority of small business fail. According to the Bureau of Labor Statistics\, after two years in business\, the majority of startups succeed\; after five years\, about half fail and half succeed. Proper planning and hard work is the only way to guard against failure. You are on the right track with Simple Steps for starting Your Business.</span></blockquote>\n\n<div style="color: rgb(51\, 51\, 51)\; font-family: &quot\;Times New Roman&quot\;\, Times\, serif\; font-size: 16px\; background-color: rgb(255\, 255\, 255)\;"><a data-saferedirecturl="https://www.google.com/url?hl=en&amp\;q=http://events.constantcontact.com/register/event?llr%3Dfg4jspcab%26oeidk%3Da07efe7al30d3a953d4&amp\;source=gmail&amp\;ust=1528295915604000&amp\;usg=AFQjCNGkQUbFiwMU_lU29hWpnZW8Iy6PGA" href="http://events.constantcontact.com/register/event?llr=fg4jspcab&amp\;oeidk=a07efe7al30d3a953d4" style="color: rgb(17\, 85\, 204)\;" target="_blank">http://events.constantcontact.<wbr />com/register/event?llr=fg4jspc<wbr />ab&amp\;oeidk=a07efe7al30d3a953d4</a></div>\n
LOCATION:PinnStation 201 E. Abram Street Arlington\, TX 76010
UID:e.1262.4107
SEQUENCE:3
DTSTAMP:20260422T073411Z
URL:https://business.fwmbcc.org/events/details/simple-steps-for-starting-your-business-this-year-4107
END:VEVENT

END:VCALENDAR
