BEGIN:VCALENDAR
VERSION:2.0
PRODID:-//ChamberMaster//Event Calendar 2.0//EN
METHOD:PUBLISH
X-PUBLISHED-TTL:P3D
REFRESH-INTERVAL:P3D
CALSCALE:GREGORIAN
BEGIN:VEVENT
DTSTART:20180209T010000Z
DTEND:20180209T030000Z
X-MICROSOFT-CDO-ALLDAYEVENT:FALSE
SUMMARY:Simple Steps for Starting Your Business in 2018
DESCRIPTION:SIMPLE STEPS FOR STARTING YOUR BUSINESS WORKSHOP\n\n																		 \n																		\n																		\n\n																		DREAM BIG! Do you dream about starting a business? You're not alone - millions of Americans share that dream. And yet\, not everyone has the courage to get started. But if you're ready to branch out on your own\, this workshop is for you. \n\n																		Action Points\n\n																		\n																			\n																			1) Getting Started  \n																			\n																			\n																			2) Turning Your Ideas to a Business \n																			\n																			\n																			3) Marketing Your Business \n																			\n																			\n																			4) Financial Matters \n																			\n																			\n																			5) Stepping Out and taking action\n																			\n																			\n																			Bring Your Laptop\n																			\n																		\n\n																		Proper Planning Is Key. One myth is that the majority of small business fail. According to the Bureau of Labor Statistics\, after two years in business\, the majority of startups succeed\; after five years\, about half fail and half succeed. Proper planning and hard work is the only way to guard against failure. You are on the right track with Simple Steps for starting Your Business. \n																		\n																		\n																		\n																		\n																	\n																\n															\n															\n														\n														\n															\n															\n																\n																	\n																		Get more information\n																	\n																	\n																		Register Now!
X-ALT-DESC;FMTTYPE=text/html:<div style="position: relative\; min-height: 100%\;">\n<div class="nH" style="width: 1536px\;">\n<div class="nH" style="position: relative\;">\n<div class="nH bkL">\n<div class="no">\n<div class="nH bkK nn" style="min-height: 1px\; width: 1334px\;">\n<div class="nH">\n<div class="nH">\n<div class="nH ar4 z">\n<div class="aeI">\n<div class="AO" style="position: relative\;">\n<div class="Tm aeJ bt0" id=":4" style="padding-right: 4px\; background: rgb(255\, 255\, 255)\; overflow-y: scroll\; height: 651px\;">\n<div class="aeF" id=":2" style="padding: 0px\; vertical-align: bottom\; min-height: 461.2px\;">\n<div class="nH">\n<div class="nH" role="main">\n<div class="nH g">\n<table cellpadding="0" class="Bs nH iY" role="presentation" style="position: static !important\; border-spacing: 0px\; padding: 0px\; border-collapse: collapse\; width: 1313.6px\;">\n	<tbody>\n		<tr>\n			<td class="Bu" style="font-family: arial\, sans-serif\; margin: 0px\; vertical-align: top\; padding: 0px\; background-image: initial\; background-position: initial\; background-size: initial\; background-repeat: initial\; background-attachment: initial\; background-origin: initial\; background-clip: initial\;">\n			<div class="nH if" style="margin: 0px 8px 0px 0px\;">\n			<div class="nH aHU" style="position: relative\;">\n			<div class="nH hx" style="background-color: transparent\; color: rgb(34\, 34\, 34)\; min-width: 502px\; padding: 4px 0px\;">\n			<div class="nH" role="list">\n			<div class="h7 ie nH oy8Mbf" role="listitem" style="clear: both\; padding-bottom: 0px\; max-width: 100000px\; outline: none\;" tabindex="-1">\n			<div class="Bk" style="position: relative\; margin-bottom: 0px\; border-width: 0px\; border-top-style: solid\; border-right-style: initial\; border-bottom-style: initial\; border-left-style: initial\; border-top-color: rgb(239\, 239\, 239)\; border-right-color: initial\; border-left-color: initial\; border-image: initial\; border-bottom-color: initial\; border-radius: 0px\; width: 1305.6px\;">\n			<div class="G3 G2" style="padding-top: 0px\; background-color: transparent\; border-width: 1px 0px 0px\; border-right-style: initial\; border-bottom-style: initial\; border-left-style: initial\; border-right-color: initial\; border-bottom-color: rgb(216\, 216\, 216)\; border-left-color: initial\; border-image: initial\; border-top-style: solid\; border-top-color: rgb(216\, 216\, 216)\; border-radius: 0px\; margin-bottom: 0px\; margin-left: 0px\; margin-right: 0px\;">\n			<div id=":d2">\n			<div class="adn ads" data-legacy-message-id="1610107f3a37beae" data-message-id="1610107f3a37beae" style="padding-bottom: 20px\; border-left: 1px solid transparent\; padding-left: 8px\;">\n			<div class="gs" style="margin-left: 44px\;">\n			<div class="ii gt " id=":d5" style="font-size: 12.8px\; direction: ltr\; margin: 5px 15px 0px 0px\; padding-bottom: 5px\; position: relative\;">\n			<div class="a3s aXjCH m1610107f3a37beae" id=":d4" style="overflow: hidden\;">\n			<div dir="ltr">\n			<div class="gmail_quote">\n			<div align="center" id="m_4839002168191933727m_-4542246285158913907rootDiv">\n			<table bgcolor="#ffffff" border="0" cellpadding="0" cellspacing="0" class="m_4839002168191933727m_-4542246285158913907body" style="padding: 0px\; margin: 0px\;" width="100%">\n				<tbody>\n					<tr>\n						<td align="center" colspan="1" rowspan="1" style="margin: 0px\;" valign="top">\n						<table border="0" cellpadding="1" cellspacing="0" class="m_4839002168191933727m_-4542246285158913907TemplateWidth" style="width: 600px\;" width="600">\n							<tbody>\n								<tr>\n									<td align="left" bgcolor="#000000" class="m_4839002168191933727m_-4542246285158913907MainBorder" colspan="1" rowspan="1" style="margin: 0px\; background-color: rgb(0\, 0\, 0)\; padding: 1px\;" valign="top">\n									<table bgcolor="#FFFFFF" border="0" cellpadding="0" cellspacing="0" class="m_4839002168191933727m_-4542246285158913907MainBodyBG" style="background-color: rgb(255\, 255\, 255)\;" width="100%">\n										<tbody>\n											<tr>\n												<td align="left" class="m_4839002168191933727m_-4542246285158913907RightColWidth" colspan="1" rowspan="1" style="margin: 0px\; width: 385px\;" valign="top" width="385">\n												<table border="0" cellpadding="0" cellspacing="0" class="m_4839002168191933727m_-4542246285158913907RightColWidth" style="width: 385px\;" width="385">\n													<tbody>\n														<tr>\n															<td align="left" class="m_4839002168191933727m_-4542246285158913907LeftColPad" colspan="1" rowspan="1" style="margin: 0px\; padding: 0px\;" valign="top" width="100%">\n															<table border="0" cellpadding="5" cellspacing="0" class="m_4839002168191933727m_-4542246285158913907BlockMargin" id="m_4839002168191933727m_-4542246285158913907content_LETTER.BLOCK5" style="margin-bottom: 5px\;" width="100%">\n																<tbody>\n																	<tr>\n																		<td align="left" class="m_4839002168191933727m_-4542246285158913907MainText" colspan="1" id="m_4839002168191933727m_-4542246285158913907evm-content-maintext" rowspan="1" style="font-family: Arial\, Helvetica\, sans-serif\; margin: 0px\; color: rgb(51\, 51\, 51)\; font-size: 10pt\;">\n																		<blockquote id="m_4839002168191933727m_-4542246285158913907yui_3_16_0_ym19_1_1484081287450_8966" style="margin: 1em\; font-size: 13px\; font-family: &quot\;Helvetica Neue&quot\;\, &quot\;Segoe UI&quot\;\, Helvetica\, Arial\, &quot\;Lucida Grande&quot\;\, sans-serif\;" type="cite">\n																		<div id="m_4839002168191933727m_-4542246285158913907yui_3_16_0_ym19_1_1484081287450_8965">\n																		<div dir="ltr" id="m_4839002168191933727m_-4542246285158913907yui_3_16_0_ym19_1_1484081287450_8964">\n																		<div class="m_4839002168191933727m_-4542246285158913907yiv1817864773gmail-mod" id="m_4839002168191933727m_-4542246285158913907yui_3_16_0_ym19_1_1484081287450_12413" style="padding-left: 15px\; clear: none\; line-height: 1.24\; padding-right: 15px\;">\n																		<div class="m_4839002168191933727m_-4542246285158913907yiv1817864773gmail-_eFb" id="m_4839002168191933727m_-4542246285158913907yui_3_16_0_ym19_1_1484081287450_12412">\n																		<div class="m_4839002168191933727m_-4542246285158913907yiv1817864773gmail-_mr m_4839002168191933727m_-4542246285158913907yiv1817864773gmail-kno-fb-ctx" id="m_4839002168191933727m_-4542246285158913907yui_3_16_0_ym19_1_1484081287450_12411" style="color: rgb(255\, 0\, 0)\; font-size: 14pt\; margin-top: 7px\;"><span id="m_4839002168191933727m_-4542246285158913907yiv1817864773gmail-docs-internal-guid-c3252066-83dc-1195-6156-ba79fd857ddd"><span class="m_4839002168191933727m_-4542246285158913907yiv1817864773gmail-_xdb" style="font-weight: bolder\;">SIMPLE STEPS FOR STARTING YOUR BUSINESS WORKSHOP</span></span></div>\n\n																		<div class="m_4839002168191933727m_-4542246285158913907yiv1817864773gmail-_mr m_4839002168191933727m_-4542246285158913907yiv1817864773gmail-kno-fb-ctx" id="m_4839002168191933727m_-4542246285158913907yui_3_16_0_ym19_1_1484081287450_12411" style="margin-top: 7px\;">&nbsp\;</div>\n																		</div>\n																		</div>\n\n																		<div align="left" dir="ltr" id="m_4839002168191933727m_-4542246285158913907yui_3_16_0_ym19_1_1484081287450_12422" style="padding: 0px\; margin: 0pt 0px 12pt\; line-height: 1.38\;"><span id="m_4839002168191933727m_-4542246285158913907yiv1817864773gmail-docs-internal-guid-c3252066-83dc-1195-6156-ba79fd857ddd"><span id="m_4839002168191933727m_-4542246285158913907yui_3_16_0_ym19_1_1484081287450_12424" style="white-space: pre-wrap\; vertical-align: baseline\; font-size: 14.6667px\; font-family: arial\;">DREAM BIG! Do you dream about starting a business? You&#39\;re not alone - millions of Americans share that dream. And yet\, not everyone has the courage to get started. But if you&#39\;re ready to branch out on your own\, this workshop is for you. </span></span></div>\n\n																		<div dir="ltr" id="m_4839002168191933727m_-4542246285158913907yui_3_16_0_ym19_1_1484081287450_12426" style="padding: 0px\; margin: 0pt 0px 12pt\; line-height: 1.38\;"><span id="m_4839002168191933727m_-4542246285158913907yiv1817864773gmail-docs-internal-guid-c3252066-83dc-1195-6156-ba79fd857ddd"><span id="m_4839002168191933727m_-4542246285158913907yui_3_16_0_ym19_1_1484081287450_12428" style="white-space: pre-wrap\; vertical-align: baseline\; font-size: 14.6667px\; font-family: arial\;">Action Points</span></span></div>\n\n																		<ul id="m_4839002168191933727m_-4542246285158913907yui_3_16_0_ym19_1_1484081287450_12433">\n																			<li dir="ltr" id="m_4839002168191933727m_-4542246285158913907yui_3_16_0_ym19_1_1484081287450_12432" style="margin-left: 15px\; list-style-type: disc\; vertical-align: baseline\; font-size: 14.6667px\; font-family: arial\; text-align: start\;">\n																			<div dir="ltr" id="m_4839002168191933727m_-4542246285158913907yui_3_16_0_ym19_1_1484081287450_12431" style="padding: 0px\; margin: 0pt 0px\; line-height: 1.38\;"><span id="m_4839002168191933727m_-4542246285158913907yiv1817864773gmail-docs-internal-guid-c3252066-83dc-1195-6156-ba79fd857ddd"><span id="m_4839002168191933727m_-4542246285158913907yui_3_16_0_ym19_1_1484081287450_12430" style="white-space: pre-wrap\; vertical-align: baseline\; font-size: 14.6667px\;">1) Getting Started &nbsp\;</span></span></div>\n																			</li>\n																			<li dir="ltr" id="m_4839002168191933727m_-4542246285158913907yui_3_16_0_ym19_1_1484081287450_12437" style="margin-left: 15px\; list-style-type: disc\; vertical-align: baseline\; font-size: 14.6667px\; font-family: arial\; text-align: start\;">\n																			<div dir="ltr" id="m_4839002168191933727m_-4542246285158913907yui_3_16_0_ym19_1_1484081287450_12436" style="padding: 0px\; margin: 0pt 0px\; line-height: 1.38\;"><span id="m_4839002168191933727m_-4542246285158913907yiv1817864773gmail-docs-internal-guid-c3252066-83dc-1195-6156-ba79fd857ddd"><span id="m_4839002168191933727m_-4542246285158913907yui_3_16_0_ym19_1_1484081287450_12435" style="white-space: pre-wrap\; vertical-align: baseline\; font-size: 14.6667px\;">2) Turning Your Ideas to a Business </span></span></div>\n																			</li>\n																			<li dir="ltr" id="m_4839002168191933727m_-4542246285158913907yui_3_16_0_ym19_1_1484081287450_12440" style="margin-left: 15px\; list-style-type: disc\; vertical-align: baseline\; font-size: 14.6667px\; font-family: arial\; text-align: start\;">\n																			<div dir="ltr" id="m_4839002168191933727m_-4542246285158913907yui_3_16_0_ym19_1_1484081287450_12439" style="padding: 0px\; margin: 0pt 0px\; line-height: 1.38\;"><span id="m_4839002168191933727m_-4542246285158913907yiv1817864773gmail-docs-internal-guid-c3252066-83dc-1195-6156-ba79fd857ddd"><span style="white-space: pre-wrap\; vertical-align: baseline\; font-size: 14.6667px\;">3) Marketing Your Business </span></span></div>\n																			</li>\n																			<li dir="ltr" id="m_4839002168191933727m_-4542246285158913907yui_3_16_0_ym19_1_1484081287450_12464" style="margin-left: 15px\; list-style-type: disc\; vertical-align: baseline\; font-size: 14.6667px\; font-family: arial\; text-align: start\;">\n																			<div dir="ltr" id="m_4839002168191933727m_-4542246285158913907yui_3_16_0_ym19_1_1484081287450_12463" style="padding: 0px\; margin: 0pt 0px\; line-height: 1.38\;"><span id="m_4839002168191933727m_-4542246285158913907yiv1817864773gmail-docs-internal-guid-c3252066-83dc-1195-6156-ba79fd857ddd"><span style="white-space: pre-wrap\; vertical-align: baseline\; font-size: 14.6667px\;">4) Financial Matters </span></span></div>\n																			</li>\n																			<li dir="ltr" id="m_4839002168191933727m_-4542246285158913907yui_3_16_0_ym19_1_1484081287450_12444" style="margin-left: 15px\; list-style-type: disc\; vertical-align: baseline\; font-size: 14.6667px\; font-family: arial\; text-align: start\;">\n																			<div dir="ltr" id="m_4839002168191933727m_-4542246285158913907yui_3_16_0_ym19_1_1484081287450_12443" style="padding: 0px\; margin: 0pt 0px\; line-height: 1.38\;"><span id="m_4839002168191933727m_-4542246285158913907yiv1817864773gmail-docs-internal-guid-c3252066-83dc-1195-6156-ba79fd857ddd"><span id="m_4839002168191933727m_-4542246285158913907yui_3_16_0_ym19_1_1484081287450_12442" style="white-space: pre-wrap\; vertical-align: baseline\; font-size: 14.6667px\;">5) Stepping Out and taking action</span></span></div>\n																			</li>\n																			<li dir="ltr" id="m_4839002168191933727m_-4542246285158913907yui_3_16_0_ym19_1_1484081287450_12447" style="margin-left: 15px\; color: rgb(255\, 0\, 0)\; list-style-type: disc\; vertical-align: baseline\; font-size: 14.6667px\; font-family: arial\; text-align: start\;">\n																			<div dir="ltr" id="m_4839002168191933727m_-4542246285158913907yui_3_16_0_ym19_1_1484081287450_12446" style="padding: 0px\; margin: 0pt 0px 12pt\; line-height: 1.38\;"><span id="m_4839002168191933727m_-4542246285158913907yiv1817864773gmail-docs-internal-guid-c3252066-83dc-1195-6156-ba79fd857ddd"><span id="m_4839002168191933727m_-4542246285158913907yui_3_16_0_ym19_1_1484081287450_12453" style="white-space: pre-wrap\; vertical-align: baseline\; font-size: 14.6667px\;"><strong>Bring Your Laptop</strong></span></span></div>\n																			</li>\n																		</ul>\n\n																		<div dir="ltr" id="m_4839002168191933727m_-4542246285158913907yui_3_16_0_ym19_1_1484081287450_12450" style="padding: 0px\; margin: 0pt 0px 12pt\; line-height: 1.38\;"><span id="m_4839002168191933727m_-4542246285158913907yiv1817864773gmail-docs-internal-guid-c3252066-83dc-1195-6156-ba79fd857ddd"><span id="m_4839002168191933727m_-4542246285158913907yui_3_16_0_ym19_1_1484081287450_12449" style="white-space: pre-wrap\; vertical-align: baseline\; font-size: 14.6667px\; font-family: arial\;">Proper Planning Is Key. One myth is that the majority of small business fail. According to the Bureau of Labor Statistics\, after two years in business\, the majority of startups succeed\; after five years\, about half fail and half succeed. Proper planning and hard work is the only way to guard against failure. You are on the right track with Simple Steps for starting Your Business. </span></span></div>\n																		</div>\n																		</div>\n																		</blockquote>\n																		</td>\n																	</tr>\n																</tbody>\n															</table>\n															</td>\n														</tr>\n														<tr>\n															<td align="left" colspan="1" rowspan="1" style="margin: 0px\;" valign="top" width="100%">\n															<table border="0" cellpadding="5" cellspacing="0" class="m_4839002168191933727m_-4542246285158913907BlockMargin" style="margin-bottom: 5px\;" width="100%">\n																<tbody>\n																	<tr>\n																		<td align="center" class="m_4839002168191933727m_-4542246285158913907cc-register m_4839002168191933727m_-4542246285158913907cc-link-sm" colspan="1" rowspan="1" style="font-family: Arial\, Helvetica\, sans-serif\; margin: 0px\; color: rgb(51\, 51\, 51)\; font-size: 12pt\;"><a class="m_4839002168191933727m_-4542246285158913907cc-register m_4839002168191933727m_-4542246285158913907cc-link-sm" data-saferedirecturl="https://www.google.com/url?hl=en&amp\;q=http://events.r20.constantcontact.com/register/event?oeidk%3Da07eezrq4fu531ada90%26c%3D6f5d43b0-93e0-11e7-a5d6-d4ae52806905%26ch%3D6f8e65d0-93e0-11e7-a5d6-d4ae52806905&amp\;source=gmail&amp\;ust=1516730486185000&amp\;usg=AFQjCNFqVjH5XJau7ceBvGWmUUCWKIvjfA" href="http://events.r20.constantcontact.com/register/event?oeidk=a07eezrq4fu531ada90&amp\;c=6f5d43b0-93e0-11e7-a5d6-d4ae52806905&amp\;ch=6f8e65d0-93e0-11e7-a5d6-d4ae52806905" id="m_4839002168191933727m_-4542246285158913907lnkMoreInfo" shape="rect" style="color: rgb(51\, 51\, 51)\; font-size: 12pt\;" target="_blank" title="Get more information">Get more information</a></td>\n																	</tr>\n																	<tr>\n																		<td align="center" class="m_4839002168191933727m_-4542246285158913907cc-register" colspan="1" rowspan="1" style="font-family: Arial\, Helvetica\, sans-serif\; margin: 0px\; color: rgb(51\, 51\, 51)\; font-size: 14pt\;"><b><a class="m_4839002168191933727m_-4542246285158913907cc-register" data-saferedirecturl="https://www.google.com/url?hl=en&amp\;q=http://events.r20.constantcontact.com/register/regform?oeidk%3Da07eezrq4fu531ada90%26c%3D6f5d43b0-93e0-11e7-a5d6-d4ae52806905%26ch%3D6f8e65d0-93e0-11e7-a5d6-d4ae52806905&amp\;source=gmail&amp\;ust=1516730486185000&amp\;usg=AFQjCNEq5BBmRxIj_L-QCyrg19W1PgTp1A" href="http://events.r20.constantcontact.com/register/regform?oeidk=a07eezrq4fu531ada90&amp\;c=6f5d43b0-93e0-11e7-a5d6-d4ae52806905&amp\;ch=6f8e65d0-93e0-11e7-a5d6-d4ae52806905" id="m_4839002168191933727m_-4542246285158913907lnkRegister" shape="rect" style="color: rgb(51\, 51\, 51)\; font-size: 14pt\;" target="_blank" title="Register Now!">Register Now!</a></b></td>\n																	</tr>\n																</tbody>\n															</table>\n															</td>\n														</tr>\n													</tbody>\n												</table>\n												</td>\n											</tr>\n										</tbody>\n									</table>\n									</td>\n								</tr>\n							</tbody>\n						</table>\n						</td>\n					</tr>\n				</tbody>\n			</table>\n			</div>\n			</div>\n			</div>\n			</div>\n			</div>\n			</div>\n			</div>\n			</div>\n			</div>\n			</div>\n			</div>\n			</div>\n			</div>\n			</div>\n			</div>\n			</td>\n		</tr>\n	</tbody>\n</table>\n</div>\n</div>\n</div>\n</div>\n</div>\n</div>\n</div>\n</div>\n</div>\n</div>\n</div>\n</div>\n</div>\n</div>\n</div>\n</div>\n
LOCATION:Pinn Station 201 E. Abram Street Arlington\,m Texas 76010
UID:e.1262.3062
SEQUENCE:3
DTSTAMP:20260422T020647Z
URL:https://business.fwmbcc.org/events/details/simple-steps-for-starting-your-business-in-2018-3062
END:VEVENT

END:VCALENDAR
