BEGIN:VCALENDAR
VERSION:2.0
PRODID:-//ChamberMaster//Event Calendar 2.0//EN
METHOD:PUBLISH
X-PUBLISHED-TTL:P3D
REFRESH-INTERVAL:P3D
CALSCALE:GREGORIAN
BEGIN:VEVENT
DTSTART:20160319T140000Z
DTEND:20160319T220000Z
X-MICROSOFT-CDO-ALLDAYEVENT:FALSE
SUMMARY:Shark Tank -Dallas Casting Call!!!!
DESCRIPTION:Shark Tank Dallas Casting Call!!!!!  If you have a great business\, product or idea and need an investment to propel you forward\, then this is the event for you!!!
X-ALT-DESC;FMTTYPE=text/html:Shark Tank Dallas Casting Call!!!!! &nbsp\;If you have a great business\, product or idea and need an investment to propel you forward\, then this is the event for you!!!
LOCATION:WFAA TV Studios- Victory Park 3030 Olive St. Dallas TX
UID:e.1262.2806
SEQUENCE:3
DTSTAMP:20260422T104443Z
URL:https://business.fwmbcc.org/events/details/shark-tank-dallas-casting-call-03-19-2016-2806
END:VEVENT

END:VCALENDAR
