BEGIN:VCALENDAR
VERSION:2.0
PRODID:-//ChamberMaster//Event Calendar 2.0//EN
METHOD:PUBLISH
X-PUBLISHED-TTL:P3D
REFRESH-INTERVAL:P3D
CALSCALE:GREGORIAN
BEGIN:VEVENT
DTSTART:20160512T230000Z
DTEND:20160513T010000Z
X-MICROSOFT-CDO-ALLDAYEVENT:FALSE
SUMMARY:Session 2-Introduction to Web Development
DESCRIPTION:
X-ALT-DESC;FMTTYPE=text/html:
LOCATION:eSkills Library & Job Center (2800 Stark St.\, Ft. Worth TX)
UID:e.1262.2509
SEQUENCE:3
DTSTAMP:20260422T072814Z
URL:https://business.fwmbcc.org/events/details/session-2-introduction-to-web-development-05-12-2016-2509
END:VEVENT

END:VCALENDAR
