BEGIN:VCALENDAR
VERSION:2.0
PRODID:-//ChamberMaster//Event Calendar 2.0//EN
METHOD:PUBLISH
X-PUBLISHED-TTL:P3D
REFRESH-INTERVAL:P3D
CALSCALE:GREGORIAN
BEGIN:VEVENT
DTSTART:20160503T230000Z
DTEND:20160504T010000Z
X-MICROSOFT-CDO-ALLDAYEVENT:FALSE
SUMMARY:Session 2-Adobe Photoshop Intro. Class
DESCRIPTION:Learn to create and edit professional quality graphics using the industry standard: Photoshop. Each course meets once per week for 6 weeks.
X-ALT-DESC;FMTTYPE=text/html:Learn to create and edit professional quality graphics using the industry standard: Photoshop. Each course meets once per week for 6 weeks.
LOCATION:eSkills Library & Job Center (2800 Stark St.\, Ft. Worth TX)
UID:e.1262.2504
SEQUENCE:3
DTSTAMP:20260422T073406Z
URL:https://business.fwmbcc.org/events/details/session-2-adobe-photoshop-intro-class-05-03-2016-2504
END:VEVENT

END:VCALENDAR
